BEGIN:VCALENDAR
VERSION:2.0
PRODID:-//AnandaWave - ECPv6.15.18//NONSGML v1.0//EN
CALSCALE:GREGORIAN
METHOD:PUBLISH
X-WR-CALNAME:AnandaWave
X-ORIGINAL-URL:https://anandawave.de
X-WR-CALDESC:Veranstaltungen für AnandaWave
REFRESH-INTERVAL;VALUE=DURATION:PT1H
X-Robots-Tag:noindex
X-PUBLISHED-TTL:PT1H
BEGIN:VTIMEZONE
TZID:Europe/Berlin
BEGIN:DAYLIGHT
TZOFFSETFROM:+0100
TZOFFSETTO:+0200
TZNAME:CEST
DTSTART:20250330T010000
END:DAYLIGHT
BEGIN:STANDARD
TZOFFSETFROM:+0200
TZOFFSETTO:+0100
TZNAME:CET
DTSTART:20251026T010000
END:STANDARD
BEGIN:DAYLIGHT
TZOFFSETFROM:+0100
TZOFFSETTO:+0200
TZNAME:CEST
DTSTART:20260329T010000
END:DAYLIGHT
BEGIN:STANDARD
TZOFFSETFROM:+0200
TZOFFSETTO:+0100
TZNAME:CET
DTSTART:20261025T010000
END:STANDARD
BEGIN:DAYLIGHT
TZOFFSETFROM:+0100
TZOFFSETTO:+0200
TZNAME:CEST
DTSTART:20270328T010000
END:DAYLIGHT
BEGIN:STANDARD
TZOFFSETFROM:+0200
TZOFFSETTO:+0100
TZNAME:CET
DTSTART:20271031T010000
END:STANDARD
END:VTIMEZONE
BEGIN:VEVENT
DTSTART;TZID=Europe/Berlin:20260105T150000
DTEND;TZID=Europe/Berlin:20260108T133000
DTSTAMP:20260421T195614
CREATED:20240630T093512Z
LAST-MODIFIED:20260126T151557Z
UID:7485-1767625200-1767879000@anandawave.de
SUMMARY:Thai Yoga meets Tantra
DESCRIPTION:nächster Termin:Keine Veranstaltungen zur Zeit \n45€ (zzgl. U+V) \nTerminübersicht und AnmeldungBring deine Tantramassage auf ein neues LevelVielleicht hast du das schon erlebt – du gibst eine Tantramassage und hast das Gefühl\, die empfangende Person ist heute besonders unruhig und aufgewühlt oder berichtet dir von Müdigkeit und Erschöpfung. Wie kannst du durch die Qualitäten der Thai Yoga Massage in deinen Tantramassagen noch besser begleiten? In unserem Seminar lernst du neue Techniken der Körperberührung – erdend\, tief und beruhigend oder bewegt-dynamisch\, energetisierend und Kraft aufbauend. \nDie Tantramassage beinhaltet eine Vielfalt von Qualitäten der Berührung\, von fließenden und zarten Berührungen bis zu kraftvollen und tiefen Elementen. In Verbindung mit der Thai Yoga Massage lernst du\, diese Elemente noch präziser und gezielter einzubinden. Du lernst\, dein eigenes Körpergewicht einzusetzen\, um Tiefe und Erdung zu erreichen und mit Bewegungssequenzen Leichtigkeit und Loslassen einzuladen. In der Kombination der Tantra- mit der Thai Yoga Massage erfährst du Langsamkeit und Sinnlichkeit auf einem neuen Level. \nAls wir\, Madlen und Nicole\, Thai Yoga Bodywork für uns entdeckt haben\, waren wir begeistert! Wir nutzen beide seit Jahren die Techniken der Thai Yoga Massage auch in unseren eigenen Tantra-Massagen und erleben immer wieder\, warum Thai Yoga auch “Meditation in Bewegung” genannt wird. \nWas bedeutet das für uns konkret in der Massage? Dazu passen die Worte unserer Freundin und Thai Yoga-Kollegin Luna Binias\, die uns sehr berühren: \n“Die erdenden Techniken des Thai Yoga bringen unseren Körper und Geist zur Ruhe. Durch intensive Drucktechniken mit den Händen und den Füßen wird unser Körper angenehm schwer und ruhig. Mit verschiedenen Handgriffen\, sanften Dehnungen und voller Aufmerksamkeit widmen wir uns dem Wechselspiel aus Geben und Empfangen. Mit jeder Ausatmung darfst du hier tiefer gleiten\, in unendliche Tiefen deines Geistes. Sinke ab\, umhüllt von samtiger Dunkelheit.” \nWir begleiten dich auf dieser Reise mit viel Erfahrung\, Wissen\, Einfühlungsvermögen und unserer Liebe für die Menschen. \nWir freuen uns auf dich! \nVoraussetzungen für die Teilnahme am Seminar: \nIn diesem Seminar sind alle Menschen willkommen\, die bereits Erfahrungen in tantrischer Massage mitbringen. Du möchtest deine Berührungsqualität erweitern und auf eine tiefere Ebene bringen? Dann freuen wir uns auf dich!\nDie Anmeldung ist für Teilnehmende der AnandaWave®-Seminare oder vergleichbarer Anbieter nach dem Besuch eines tantrischen Körpermassage-Seminars – wie zum Beispiel dem Grundseminar – offen. Eine Ausnahme gilt für Menschen mit wenig/ohne Tantramassage-Erfahrung\, wenn sie mit einem erfahrenen Gegenüber zu uns kommen und ausschließlich mit dieser Person in den Massageaustausch gehen. \nDas erwartet dich im Seminar: \n\nDu lernst die theoretischen und praktischen Grundlagen des Thai Yoga-Bodywork um dein eigenes tantrisches Massageritual zu bereichern.\nTagsüber erwarten dich Massageeinheiten\, die entweder erdend-beruhigende oder dynamisch-energetisierende Qualitäten haben und angezogen auf einem Bodenlager stattfinden. An den Abenden gehen wir dann einen rituelleren Rahmen über\, wie du ihn aus unseren Tantramassage-Seminaren kennst.\nWir übertragen die Langsamkeit und Tiefe auch auf das Geben und Empfangen der Intimmassage.\nDas Geben und Empfangen ist in einer Balance\, so dass du auch selber die besonderen Qualitäten der Massage spüren lernst.\nLerne deinen Atem und dein Körpergewicht beim Geben einer Massage gezielt einzusetzen und entwickle ein feines Gespür für deine ganz eigene Bodymechanik.\nDu wirst mit Druck- und Bewegungstechniken erfahren\, wie du eine ganzheitliche Massage (auch ohne Öl) mit deinen Händen\, Füßen\, Knien und Ellenbogen geben kannst.\nBeende das Aushalten\, Durchhalten\, Funktionieren und lerne\, wie du deinen Körper und Geist zur Ruhe bringen kannst.\n\nDas Seminar ist im Rahmen des Berührungstrainings eingestuft als Level 2\, Modul 4. \nEs ist möglich\, dass du im Laufe des Seminars intensive emotionale Erfahrungen machst. Da wir keine Therapie anbieten\, möchten wir dich bitten\, in Ruhe zu entscheiden\, ob du physisch und psychisch in der Lage bist\, damit umzugehen. Wir behalten uns vor\, eine Teilnahme vor oder während des Seminars anbieterseitig abzusagen\, wenn wir den Eindruck haben\, dass Umfang oder Intensität des Seminars eine teilnehmende Person überfordert. Bitte lies für weitere Details unsere Teilnahme- und Rücktrittsbedingungen. \n\nDas Seminar ist im Rahmen der Tantramassage-Profi-Ausbildung TMV® eingestuft als Level 2\, Modul 4. Es sind jedoch auch alle Menschen ohne berufliche Ambitionen eingeladen an diesem Seminar teilzunehmen. \n\nNach der verbindlichen Anmeldung erhältst du von uns einen Link\, um deine Unterkunft und Verpflegung direkt im Seminarhaus zu besonderen AnandaWave-Konditionen zu buchen. \nBitte lies auch unsere Teilnahme- und Rücktrittsbedingungen\, sowie unsere Rabatte und Zahlungsmodalitäten. \nHier findest du Informationen zu: \n\nTantramassage-Profi-Ausbildung TMV®\nGanzheitliches Jahrestraining\n\nSeminarleitung:Nicole Schuttenberg\, Madlen Thonhauser \nalle Termine:Keine Veranstaltungen zur Zeit \nTerminübersicht und Anmeldung
URL:https://anandawave.de/termin/thai-yoga-meets-tantra-2/
LOCATION:Leuther Mühle\, Nettetal\, 41334\, Deutschland
CATEGORIES:Seminare,Thai Yoga meets Tantra
ATTACH;FMTTYPE=image/jpeg:https://anandawave.de/wp-content/uploads/2023/09/thai-yoga-meets-tantra-scaled.jpg
END:VEVENT
END:VCALENDAR