BEGIN:VCALENDAR
VERSION:2.0
PRODID:-//AnandaWave - ECPv6.15.18//NONSGML v1.0//EN
CALSCALE:GREGORIAN
METHOD:PUBLISH
X-WR-CALNAME:AnandaWave
X-ORIGINAL-URL:https://anandawave.de
X-WR-CALDESC:Veranstaltungen für AnandaWave
REFRESH-INTERVAL;VALUE=DURATION:PT1H
X-Robots-Tag:noindex
X-PUBLISHED-TTL:PT1H
BEGIN:VTIMEZONE
TZID:Europe/Berlin
BEGIN:DAYLIGHT
TZOFFSETFROM:+0100
TZOFFSETTO:+0200
TZNAME:CEST
DTSTART:20250330T010000
END:DAYLIGHT
BEGIN:STANDARD
TZOFFSETFROM:+0200
TZOFFSETTO:+0100
TZNAME:CET
DTSTART:20251026T010000
END:STANDARD
BEGIN:DAYLIGHT
TZOFFSETFROM:+0100
TZOFFSETTO:+0200
TZNAME:CEST
DTSTART:20260329T010000
END:DAYLIGHT
BEGIN:STANDARD
TZOFFSETFROM:+0200
TZOFFSETTO:+0100
TZNAME:CET
DTSTART:20261025T010000
END:STANDARD
BEGIN:DAYLIGHT
TZOFFSETFROM:+0100
TZOFFSETTO:+0200
TZNAME:CEST
DTSTART:20270328T010000
END:DAYLIGHT
BEGIN:STANDARD
TZOFFSETFROM:+0200
TZOFFSETTO:+0100
TZNAME:CET
DTSTART:20271031T010000
END:STANDARD
END:VTIMEZONE
BEGIN:VEVENT
DTSTART;TZID=Europe/Berlin:20260224T193000
DTEND;TZID=Europe/Berlin:20260224T203000
DTSTAMP:20260421T171209
CREATED:20260116T113422Z
LAST-MODIFIED:20260119T185435Z
UID:10600-1771961400-1771965000@anandawave.de
SUMMARY:kostenlose Info-Veranstaltung zum Paarseminar
DESCRIPTION:nächster Termin:\n			        Apr.\n			        28\n			        \n    kostenlose Info-Veranstaltung zum Paarseminar\n                \n                19:30 - 20:30\n				\n45€ (zzgl. U+V) \nTerminübersicht und AnmeldungEine Paarbeziehung läuft selten „von alleine“. Die Liebe in ihren zarten und kräftigen Farben zu leben bleibt ein lebenslanges Abenteuer. In unserem Paarseminar habt ihr die Möglichkeit\, euch als Paar auf einer tieferen Ebene besser kennenzulernen. Wir gehen in einer achtsamen\, wertschätzenden und geschützten Atmosphäre auf eine gemeinsame Entdeckungsreise. Es geht um Kontakt\, Intimität und Nähe in einem geschützten Rahmen. \nWenn sich Paare für unsere Seminare interessieren\, ist es ihnen oft wichtig\, sich ein genaueres Bild zu machen\, ob das Seminar für ihre Wünsche und Bedürfnisse geeignet ist. Gerade Menschen\, die zum ersten Mal in eines unserer Seminare kommen\, haben häufig Unsicherheiten und viele Fragen. Nicole und Christoph informieren per Zoom über die Inhalte unseres Paarseminars\, berichten über den Ablauf und beantworten gerne alle Fragen. \nWeitere Informationen zur Teilnahme per Zoom\, senden wir dir nach Eingang deiner Anmeldung zu. \nLeitung:Nicole Schuttenberg\, Christoph Kraus \nalle Termine:\n			        Apr.\n			        28\n			        \n    kostenlose Info-Veranstaltung zum Paarseminar\n                \n                19:30 - 20:30\n				\n			        Juni\n			        16\n			        \n    kostenlose Info-Veranstaltung zum Paarseminar\n                \n                19:30 - 20:30\n				\n			        Juli\n			        21\n			        \n    kostenlose Info-Veranstaltung zum Paarseminar\n                \n                19:30 - 20:30\n				\n			        Sep.\n			        01\n			        \n    kostenlose Info-Veranstaltung zum Paarseminar\n                \n                19:30 - 20:30\n				\n			        Nov.\n			        30\n			        \n    kostenlose Info-Veranstaltung zum Paarseminar\n                \n                19:30 - 20:30\n				\nTerminübersicht und Anmeldung
URL:https://anandawave.de/termin/kostenlose-info-veranstaltung-zum-paarseminar/
CATEGORIES:Kostenlose Infoveranstaltung zum Paarseminar,Vorträge & Veranstaltungen
ATTACH;FMTTYPE=image/jpeg:https://anandawave.de/wp-content/uploads/2021/06/paarseminar-scaled.jpg
END:VEVENT
END:VCALENDAR