BEGIN:VCALENDAR
VERSION:2.0
PRODID:-//AnandaWave - ECPv6.15.18//NONSGML v1.0//EN
CALSCALE:GREGORIAN
METHOD:PUBLISH
X-ORIGINAL-URL:https://anandawave.de
X-WR-CALDESC:Veranstaltungen für AnandaWave
REFRESH-INTERVAL;VALUE=DURATION:PT1H
X-Robots-Tag:noindex
X-PUBLISHED-TTL:PT1H
BEGIN:VTIMEZONE
TZID:Europe/Berlin
BEGIN:DAYLIGHT
TZOFFSETFROM:+0100
TZOFFSETTO:+0200
TZNAME:CEST
DTSTART:20250330T010000
END:DAYLIGHT
BEGIN:STANDARD
TZOFFSETFROM:+0200
TZOFFSETTO:+0100
TZNAME:CET
DTSTART:20251026T010000
END:STANDARD
BEGIN:DAYLIGHT
TZOFFSETFROM:+0100
TZOFFSETTO:+0200
TZNAME:CEST
DTSTART:20260329T010000
END:DAYLIGHT
BEGIN:STANDARD
TZOFFSETFROM:+0200
TZOFFSETTO:+0100
TZNAME:CET
DTSTART:20261025T010000
END:STANDARD
BEGIN:DAYLIGHT
TZOFFSETFROM:+0100
TZOFFSETTO:+0200
TZNAME:CEST
DTSTART:20270328T010000
END:DAYLIGHT
BEGIN:STANDARD
TZOFFSETFROM:+0200
TZOFFSETTO:+0100
TZNAME:CET
DTSTART:20271031T010000
END:STANDARD
END:VTIMEZONE
BEGIN:VEVENT
DTSTART;TZID=Europe/Berlin:20260323T150000
DTEND;TZID=Europe/Berlin:20260329T160000
DTSTAMP:20260421T164739
CREATED:20260116T083500Z
LAST-MODIFIED:20260120T115133Z
UID:10529-1774278000-1774800000@anandawave.de
SUMMARY:Intensivseminar zur Yoni- und Lingam-Massage
DESCRIPTION:nächster Termin:\n			        Sep.\n			        14\n			        \n    Intensivseminar zur Yoni- und Lingam-Massage\n                \n                14. September - 20. September\n				\n45€ (zzgl. U+V) \nTerminübersicht und AnmeldungVoraussetzung: Teilnahme am Tantramassage-Grundseminar oder eines ähnlichen Seminars in anderen InstitutenDieses Intensivseminar richtet sich an Menschen die bereits ein Tantramassage Grundseminar bei AnandaWave® oder ein ähnliches Seminar in anderen Instituten besucht haben. \nDie Themen des Yoni- und Lingam-Intensivseminars: \n\nStabilisierung der sexuellen Identität jenseits von einengenden gesellschaftlichen Bildern und Vorstellungen\nVerfeinern und Vertiefen der AnandaWave®-Tantramassage mit neuen Bewegungsimpulsen\nAufbau eines sinnlich-erotischen Spannungsbogens in der Massage\nIntensive Ausbildung und konkrete Berührungsanleitung für Yoni und Lingam\, die in Achtsamkeit ausgeführt\, eine sehr ehrliche und tiefe Erfahrung möglich machen\nErweitertes anatomisches\, funktionales und energetisches Fachwissen zur weiblichen und männlichen Sexualität\nSchaffen eines natürlichen Umgangs mit der eigenen sexuellen Energie als Quelle von Selbstvertrauen\nIntensive Auseinandersetzung mit eigenen sexuellen Themen\nDas Erleben von weiblicher und männlicher Identität in Frauen- und Männergruppen\n\nMit einem tieferen Kontakt zu Yoni und Lingam strahlen wir mehr innere Lebendigkeit\, Charisma und Kreativität aus. Die gesamte Lebensenergie verändert sich hin zu mehr Achtsamkeit und Lebenslust. In lebendiger\, kreativer und geschützter Atmosphäre machen wir uns vertraut mit der Sexualität der Frau und des Mannes und diversen Personen und wenden uns den einzelnen Phasen der Yoni- und Lingam-Massage zu. \nYoni-Massage und Lingam-Massage: Die Teilnehmenden lernen\, was es heißt\, eine Verbindung von Herz und Sexualität aufzubauen. \nYoni- und Lingam-Massage stehen im Zentrum der sinnlichen AnandaWave®-Massage und rufen die unterschiedlichsten Emotionen und Wahrnehmungen hervor: Wohlbefinden\, das Spüren unverarbeiteter Verletzungen aus der Vergangenheit\, die Stärkung der eigenen sexuellen Lebensenergie oder reine Ekstase. \nDas Seminar lädt dazu ein\, sexuelle Begrenzungen zu überprüfen\, zu mehr Erfüllung zu finden und neue Berührungs- und Erfahrungsqualitäten kennenzulernen. \nDieses Intensivseminar dient auch der konkreten Auseinandersetzung mit den eigenen Themen zur weiblichen und männlichen Sexualität. Das ist eine der Voraussetzungen\, um die Tantramassage privat oder auch beruflich\, ehrlich und im Kontakt mit sich selbst und mit der empfangenden Person ausüben zu können. Dazu wird es eine konkrete Frauenzeit und Männerzeit geben. \nWir vermitteln dir das nötige anatomische und neurologische Wissen sowie die Kenntnis energetischer Abläufe\, damit du die praktischen Erfahrungen im Seminar in ein umfangreiches Verstehen einbetten kannst. Am letzten Tag feiern wir gemeinsam im Rahmen einer zweistündigen Zeremonie all die neuen Fertigkeiten und Erkenntnisse zur sinnlichen AnandaWave®-Tantramassage. \nEs besteht die Möglichkeit im Anschluss an die Veranstaltung eine ausführliche Rückmeldung zum derzeitigen Stand deiner Fertigkeiten zu bekommen. \n\nDas Seminar ist im Rahmen der Tantramassage-Profi-Ausbildung TMV® eingestuft als Level 1\, Modul 2. Es sind jedoch auch alle Menschen ohne berufliche Ambitionen eingeladen an diesem Seminar teilzunehmen. \n\nBitte lese auch unsere Teilnahme- und Rücktrittsbedingungen\, sowie unsere Rabatte und Zahlungsmodalitäten. \nIm Preis enthalten: Alle Teilnehmenden bekommen ausführliches schriftliches Material zu den Seminarinhalten ausgehändigt. Nach deiner verbindlichen Anmeldung erhältst du von uns einen Link\, um deine Unterkunft und Verpflegung direkt im Seminarhaus zu besonderen AnandaWave-Konditionen zu buchen. \nHier findest du Informationen zu: \n\nTantramassage-Profi-Ausbildung TMV®\nGanzheitliches Jahrestraining\n\nSeminarleitung:Nicole Schuttenberg\, Christoph Kraus\, Madlen Thonhauser \nalle Termine:\n			        Sep.\n			        14\n			        \n    Intensivseminar zur Yoni- und Lingam-Massage\n                \n                14. September - 20. September\n				\n			        März\n			        15\n			        \n    Intensivseminar zur Yoni- und Lingam-Massage\n                \n                Montag\, 15. März 2027 - Sonntag\, 21. März 2027\n				\n			        Okt.\n			        18\n			        \n    Intensivseminar zur Yoni- und Lingam-Massage\n                \n                Montag\, 18. Oktober 2027 - Sonntag\, 24. Oktober 2027\n				\nTerminübersicht und Anmeldung
URL:https://anandawave.de/termin/intensivseminar-zur-yoni-und-lingam-massage/
LOCATION:Leuther Mühle\, Nettetal\, 41334\, Deutschland
CATEGORIES:Intensivseminar Yoni- und Lingam-Massage,Seminare
ATTACH;FMTTYPE=image/jpeg:https://anandawave.de/wp-content/uploads/2021/06/intensivseminar-scaled.jpg
END:VEVENT
BEGIN:VEVENT
DTSTART;TZID=Europe/Berlin:20260323T190000
DTEND;TZID=Europe/Berlin:20260323T200000
DTSTAMP:20260421T164739
CREATED:20260116T115612Z
LAST-MODIFIED:20260119T184942Z
UID:10629-1774292400-1774296000@anandawave.de
SUMMARY:kostenlose Info-Veranstaltung ganzheitliches Jahrestraining
DESCRIPTION:nächster Termin:\n			        Mai\n			        18\n			        \n    kostenlose Info-Veranstaltung ganzheitliches Jahrestraining\n                \n                19:00 - 20:00\n				\n45€ (zzgl. U+V) \nTerminübersicht und AnmeldungMit einer Portion Mut\, Neugierde und Humor befähigen wir Menschen in diesem Jahrestraining\, sich auf auf den Weg zu sich selbst zu machen und sich folgende Sinnfragen zu stellen:\nWer bin ich\, woher komme ich und warum bin ich hier?\nWas habe ich dieser Welt zu geben und welche Kostbarkeiten hält sie für mich bereit?\nWelche meiner mir innewohnenden Potentiale möchte ich entdecken und in die Welt tragen\, zum Wohle aller Beteiligten?\nWie entfalte ich meine Sinnlichkeit und meine erotische Intelligenz?\nWas ist mein höchstes Anliegen und wie möchte ich meine Spiritualität leben\n\nAufgeteilt in 4 Abschnitte lehren wir in diesem Jahrestraining zudem die komplette AnandaWave-Tantramassage\, so wie wir diese auch in unserem Tantramassage-Grundseminar unterrichten. \nGerne werde ich dich an diesem Info-Abend über Themen\, Inhalte und angewandte Methoden des Jahrestrainings informieren und auf deine Fragen eingehen. \nWeitere Informationen zur Teilnahme per Zoom\, senden wir dir nach Eingang deiner Anmeldung zu. \nLeitung:Alma Wagener und Elisabette Partenopeo \nalle Termine:\n			        Mai\n			        18\n			        \n    kostenlose Info-Veranstaltung ganzheitliches Jahrestraining\n                \n                19:00 - 20:00\n				\nTerminübersicht und Anmeldung
URL:https://anandawave.de/termin/kostenlose-info-veranstaltung-ganzheitliches-jahrestraining-2/
CATEGORIES:Kostenlose Info-Veranstaltung - Ganzheitliches Jahrestraining,Vorträge & Veranstaltungen
ATTACH;FMTTYPE=image/jpeg:https://anandawave.de/wp-content/uploads/2021/10/Kostenlose-Info-Veranstaltung-Integrales-Jahrestraining2-scaled.jpg
END:VEVENT
END:VCALENDAR