BEGIN:VCALENDAR
VERSION:2.0
PRODID:-//AnandaWave - ECPv6.15.18//NONSGML v1.0//EN
CALSCALE:GREGORIAN
METHOD:PUBLISH
X-ORIGINAL-URL:https://anandawave.de
X-WR-CALDESC:Veranstaltungen für AnandaWave
REFRESH-INTERVAL;VALUE=DURATION:PT1H
X-Robots-Tag:noindex
X-PUBLISHED-TTL:PT1H
BEGIN:VTIMEZONE
TZID:Europe/Berlin
BEGIN:DAYLIGHT
TZOFFSETFROM:+0100
TZOFFSETTO:+0200
TZNAME:CEST
DTSTART:20250330T010000
END:DAYLIGHT
BEGIN:STANDARD
TZOFFSETFROM:+0200
TZOFFSETTO:+0100
TZNAME:CET
DTSTART:20251026T010000
END:STANDARD
BEGIN:DAYLIGHT
TZOFFSETFROM:+0100
TZOFFSETTO:+0200
TZNAME:CEST
DTSTART:20260329T010000
END:DAYLIGHT
BEGIN:STANDARD
TZOFFSETFROM:+0200
TZOFFSETTO:+0100
TZNAME:CET
DTSTART:20261025T010000
END:STANDARD
BEGIN:DAYLIGHT
TZOFFSETFROM:+0100
TZOFFSETTO:+0200
TZNAME:CEST
DTSTART:20270328T010000
END:DAYLIGHT
BEGIN:STANDARD
TZOFFSETFROM:+0200
TZOFFSETTO:+0100
TZNAME:CET
DTSTART:20271031T010000
END:STANDARD
END:VTIMEZONE
BEGIN:VEVENT
DTSTART;TZID=Europe/Berlin:20260407T193000
DTEND;TZID=Europe/Berlin:20260407T203000
DTSTAMP:20260421T140613
CREATED:20260116T111635Z
LAST-MODIFIED:20260119T184833Z
UID:10577-1775590200-1775593800@anandawave.de
SUMMARY:Kostenlose Infoveranstaltung – lerne uns kennen!
DESCRIPTION:nächster Termin:\n			        Juni\n			        30\n			        \n    Kostenlose Infoveranstaltung – lerne uns kennen!\n                \n                19:30 - 20:30\n				\n45€ (zzgl. U+V) \nTerminübersicht und AnmeldungKostenlose Infoveranstaltung – lerne uns kennen!Mit achtsamer Berührung erfahren wir tiefe Verbundenheit und widmen uns bewusst dem Reichtum und der Fülle unserer Erfahrungen im Hier und Jetzt. Somit fördern wir nicht nur unsere Selbstwahrnehmung\, sondern auch unser Einfühlungsvermögen in andere. Bei AnandaWave® geht es uns darum\, möglichst vielen Menschen die sinnliche Berührungskunst nahe zu bringen. Ein Verständnis dafür zu schaffen\, dass Sinnlichkeit und Berührung auf eine seriöse\, wertschätzende\, heilsame und verbindende Art und Weise vermittelt werden kann. \nWir bieten für Menschen\, die sich für die Tantramassage und für unsere Seminare interessieren\, eine kostenlose Infoveranstaltung per Zoom an. Madlen\, Nicole und Christoph informieren über Theoretisches und Praktisches zur Tantramassage\, berichten über den Ablauf unserer Seminare und beantworten gerne alle Fragen. \nWeitere Informationen zur Teilnahme per Zoom senden wir dir nach Eingang deiner Anmeldung zu. \nLeitung:Nicole Schuttenberg\, Christoph Kraus \nalle Termine:\n			        Juni\n			        30\n			        \n    Kostenlose Infoveranstaltung – lerne uns kennen!\n                \n                19:30 - 20:30\n				\n			        Sep.\n			        08\n			        \n    Kostenlose Infoveranstaltung – lerne uns kennen!\n                \n                19:30 - 20:30\n				\n			        Okt.\n			        27\n			        \n    Kostenlose Infoveranstaltung – lerne uns kennen!\n                \n                19:30 - 20:30\n				\nTerminübersicht und Anmeldung
URL:https://anandawave.de/termin/kostenlose-infoveranstaltung-lerne-uns-kennen-5/
CATEGORIES:Kostenlose Info-Veranstaltung - lernen Sie uns kennen!,Vorträge & Veranstaltungen
ATTACH;FMTTYPE=image/jpeg:https://anandawave.de/wp-content/uploads/2021/07/Kostenlose-Info-Veranstaltung-lernen-Sie-uns-kennen2-scaled.jpg
END:VEVENT
END:VCALENDAR