BEGIN:VCALENDAR
VERSION:2.0
PRODID:-//AnandaWave - ECPv6.15.18//NONSGML v1.0//EN
CALSCALE:GREGORIAN
METHOD:PUBLISH
X-WR-CALNAME:AnandaWave
X-ORIGINAL-URL:https://anandawave.de
X-WR-CALDESC:Veranstaltungen für AnandaWave
REFRESH-INTERVAL;VALUE=DURATION:PT1H
X-Robots-Tag:noindex
X-PUBLISHED-TTL:PT1H
BEGIN:VTIMEZONE
TZID:Europe/Berlin
BEGIN:DAYLIGHT
TZOFFSETFROM:+0100
TZOFFSETTO:+0200
TZNAME:CEST
DTSTART:20250330T010000
END:DAYLIGHT
BEGIN:STANDARD
TZOFFSETFROM:+0200
TZOFFSETTO:+0100
TZNAME:CET
DTSTART:20251026T010000
END:STANDARD
BEGIN:DAYLIGHT
TZOFFSETFROM:+0100
TZOFFSETTO:+0200
TZNAME:CEST
DTSTART:20260329T010000
END:DAYLIGHT
BEGIN:STANDARD
TZOFFSETFROM:+0200
TZOFFSETTO:+0100
TZNAME:CET
DTSTART:20261025T010000
END:STANDARD
BEGIN:DAYLIGHT
TZOFFSETFROM:+0100
TZOFFSETTO:+0200
TZNAME:CEST
DTSTART:20270328T010000
END:DAYLIGHT
BEGIN:STANDARD
TZOFFSETFROM:+0200
TZOFFSETTO:+0100
TZNAME:CET
DTSTART:20271031T010000
END:STANDARD
END:VTIMEZONE
BEGIN:VEVENT
DTSTART;TZID=Europe/Berlin:20260422T180000
DTEND;TZID=Europe/Berlin:20260422T220000
DTSTAMP:20260421T152029
CREATED:20260116T121356Z
LAST-MODIFIED:20260331T124636Z
UID:10639-1776880800-1776895200@anandawave.de
SUMMARY:Abend-Workshop Youngtra
DESCRIPTION:nächster Termin:\n			        Apr.\n			        22\n			        \n    Abend-Workshop Youngtra\n                \n                18:00 - 22:00\n				\n45€ (zzgl. U+V) \nTerminübersicht und AnmeldungEinführungs-Abend YoungtraAn diesem Abendworkshop speziell für junge Menschen geht es um ein erstes Eintauchen in die tantrische Berührung und die Kunst\, achtsam in Kontakt mit anderen Menschen zu gehen. Dabei werden wir uns auch spielerisch mit dem Thema Grenzen beschäftigen. \nWenn man einige Jahrzehnte zurückblickt\, hat die Sexualität einen regelrechten Freiheitsboom hin- gelegt. Das Recht auf Respekt\, Gleichstellung und Grenzwahrung wird lauter gefordert als jemals zuvor – das ist großartig! Trotzdem gibt es noch viel zu tun. Dass Sexualität neben einer biologischen auch noch eine emotionale Komponente hat\, wird in Schulen oft ausgeklammert. Dass Eltern mit ihren Kindern über Sex und Gefühle sprechen\, ist auch eher die Ausnahme als die Regel. Und Pornografie übernimmt diese fehlende Aufklärung mehr schlecht als recht. \nWir möchten mit Youngtra eine Plattform schaffen\, in der wir mit jungen Menschen in einer geschützten Atmosphäre mittels der tantrischen Massage lernen\, was es bedeutet\, gut zu berühren und sich selbst berührbar zu machen – sowohl körperlich wie auch emotional. \nAbend-Workshop Youngtra Inhalte \nWir werden euch in diesem Abendworkshop einen ersten\, kurzen Einblick in die tantrische Berührungskunst geben. Nach einem knackigen Vortrag über Tantra und die Tantramassage\, wird es um das 3-Minuten-Spiel (inspiriert von Betty Martin und dem Konsensrad / Wheel of Consent) und damit dem Thema Wünsche\, Grenzen und Kommunikation gehen. Danach demonstrieren wir euch ein tantrisches Begegnungsritual und leiten euch anschließend an\, es in Zweierpaarungen selbst auszuprobieren. \nBei diesem Workshop bleiben wir alle bekleidet – also bitte erscheint in bequemer Kleidung oder bringt entsprechende Kleidung mit. Es gibt keine Nacktheit und keine intime Berührung. \nZielgruppe \nEingeladen sind alle Menschen zwischen 18 und 30 Jahren\, die ihre Fähigkeiten für liebevolle\, achtsame Berührung erweitern und einen Eindruck von der Tantramassage gewinnen möchten. Einsteigende wie Fortgeschrittene\, Paare sowie Singles sind herzlich willkommen. Es geht an diesem Abend um Begegnung\, Wertschätzung\, Zuwendung und Vertrauen. \nMenschen aller sexuellen Orientierungen und Geschlechtsidentitäten sind willkommen. \nBitte frühzeitig einen Platz reservieren\, da die Teilnahme nur mit Voranmeldung möglich ist. \nBitte lest auch unsere Teilnahme- und Rücktrittsbedingungen\, sowie unsere Rabatte und Zahlungsmodalitäten. \nBei Fragen könnt ihr euch gerne an info@ananda-wave.de wenden. \nBitte mitbringen \nBequeme Kleidung\, die Deine Bewegung nicht einschränkt und in der du dich wohl fühlst sowie eine verschließbare Wasserflasche. Außerdem benötigst du eine Wolldecke oder Yogamatte (für zwei Personen reicht jeweils eine Unterlage) \nDie Youngtra-Abendworkshops finden in Köln und Berlin statt. \nEinzeltermine: \nDo\, 13.11.2025 18-22 Uhr in Köln (Ananda\, Kunst der Berührung)\, Leitung Katharina Hahn \nMi\, 04.02.2026 18-22 Uhr in Köln (Ananda\, Kunst der Berührung)\, Leitung Katharina Hahn \nDi\, 03.03.2026 18-22 Uhr in Berlin (The Library)\, Leitung Pia Grüter \nMi\, 22.04.2026 18-22 Uhr in Köln (Ananda\, Kunst der Berührung)\, Leitung Lea Schöttle \nDi\, 02.06.2026 18-22 Uhr in Köln (Ananda\, Kunst der Berührung)\, Leitung Lea Schöttle \nMi\, 02.09.2026 18-22 Uhr in Köln (Ananda\, Kunst der Berührung)\, Leitung Lea Schöttle \nMi\, 28.10.2026 18-22 Uhr in Köln (Ananda\, Kunst der Berührung)\, Leitung Lea Schöttle \nWorkshop-Leitung:Katharina Hahn\, Lea Schöttle und Pia Grüter \nalle Termine:\n			        Apr.\n			        22\n			        \n    Abend-Workshop Youngtra\n                \n                18:00 - 22:00\n				\n			        Juni\n			        02\n			        \n    Abend-Workshop Youngtra\n                \n                18:00 - 22:00\n				\n			        Sep.\n			        02\n			        \n    Abend-Workshop Youngtra\n                \n                18:00 - 22:00\n				\n			        Okt.\n			        28\n			        \n    Abend-Workshop Youngtra\n                \n                18:00 - 22:00\n				\nTerminübersicht und Anmeldung
URL:https://anandawave.de/termin/abend-workshop-youngtra-4/
LOCATION:ANANDA Köln oder Raum für Achtsamkeit in Rösrath\, Deutschland
CATEGORIES:Abend-Workshop Youngtra,Vorträge & Veranstaltungen
ATTACH;FMTTYPE=image/jpeg:https://anandawave.de/wp-content/uploads/2026/03/youngtra-big-26.jpg
END:VEVENT
END:VCALENDAR