BEGIN:VCALENDAR
VERSION:2.0
PRODID:-//AnandaWave - ECPv6.15.18//NONSGML v1.0//EN
CALSCALE:GREGORIAN
METHOD:PUBLISH
X-WR-CALNAME:AnandaWave
X-ORIGINAL-URL:https://anandawave.de
X-WR-CALDESC:Veranstaltungen für AnandaWave
REFRESH-INTERVAL;VALUE=DURATION:PT1H
X-Robots-Tag:noindex
X-PUBLISHED-TTL:PT1H
BEGIN:VTIMEZONE
TZID:Europe/Berlin
BEGIN:DAYLIGHT
TZOFFSETFROM:+0100
TZOFFSETTO:+0200
TZNAME:CEST
DTSTART:20250330T010000
END:DAYLIGHT
BEGIN:STANDARD
TZOFFSETFROM:+0200
TZOFFSETTO:+0100
TZNAME:CET
DTSTART:20251026T010000
END:STANDARD
BEGIN:DAYLIGHT
TZOFFSETFROM:+0100
TZOFFSETTO:+0200
TZNAME:CEST
DTSTART:20260329T010000
END:DAYLIGHT
BEGIN:STANDARD
TZOFFSETFROM:+0200
TZOFFSETTO:+0100
TZNAME:CET
DTSTART:20261025T010000
END:STANDARD
BEGIN:DAYLIGHT
TZOFFSETFROM:+0100
TZOFFSETTO:+0200
TZNAME:CEST
DTSTART:20270328T010000
END:DAYLIGHT
BEGIN:STANDARD
TZOFFSETFROM:+0200
TZOFFSETTO:+0100
TZNAME:CET
DTSTART:20271031T010000
END:STANDARD
END:VTIMEZONE
BEGIN:VEVENT
DTSTART;TZID=Europe/Berlin:20260518T190000
DTEND;TZID=Europe/Berlin:20260518T200000
DTSTAMP:20260421T152610
CREATED:20260116T115659Z
LAST-MODIFIED:20260119T184138Z
UID:10631-1779130800-1779134400@anandawave.de
SUMMARY:kostenlose Info-Veranstaltung ganzheitliches Jahrestraining
DESCRIPTION:nächster Termin:\n			        Mai\n			        18\n			        \n    kostenlose Info-Veranstaltung ganzheitliches Jahrestraining\n                \n                19:00 - 20:00\n				\n45€ (zzgl. U+V) \nTerminübersicht und AnmeldungMit einer Portion Mut\, Neugierde und Humor befähigen wir Menschen in diesem Jahrestraining\, sich auf auf den Weg zu sich selbst zu machen und sich folgende Sinnfragen zu stellen:\nWer bin ich\, woher komme ich und warum bin ich hier?\nWas habe ich dieser Welt zu geben und welche Kostbarkeiten hält sie für mich bereit?\nWelche meiner mir innewohnenden Potentiale möchte ich entdecken und in die Welt tragen\, zum Wohle aller Beteiligten?\nWie entfalte ich meine Sinnlichkeit und meine erotische Intelligenz?\nWas ist mein höchstes Anliegen und wie möchte ich meine Spiritualität leben\n\nAufgeteilt in 4 Abschnitte lehren wir in diesem Jahrestraining zudem die komplette AnandaWave-Tantramassage\, so wie wir diese auch in unserem Tantramassage-Grundseminar unterrichten. \nGerne werde ich dich an diesem Info-Abend über Themen\, Inhalte und angewandte Methoden des Jahrestrainings informieren und auf deine Fragen eingehen. \nWeitere Informationen zur Teilnahme per Zoom\, senden wir dir nach Eingang deiner Anmeldung zu. \nLeitung:Alma Wagener und Elisabette Partenopeo \nalle Termine:\n			        Mai\n			        18\n			        \n    kostenlose Info-Veranstaltung ganzheitliches Jahrestraining\n                \n                19:00 - 20:00\n				\nTerminübersicht und Anmeldung
URL:https://anandawave.de/termin/kostenlose-info-veranstaltung-ganzheitliches-jahrestraining-3/
CATEGORIES:Kostenlose Info-Veranstaltung - Ganzheitliches Jahrestraining,Vorträge & Veranstaltungen
ATTACH;FMTTYPE=image/jpeg:https://anandawave.de/wp-content/uploads/2021/10/Kostenlose-Info-Veranstaltung-Integrales-Jahrestraining2-scaled.jpg
END:VEVENT
END:VCALENDAR