BEGIN:VCALENDAR
VERSION:2.0
PRODID:-//AnandaWave - ECPv6.15.18//NONSGML v1.0//EN
CALSCALE:GREGORIAN
METHOD:PUBLISH
X-ORIGINAL-URL:https://anandawave.de
X-WR-CALDESC:Veranstaltungen für AnandaWave
REFRESH-INTERVAL;VALUE=DURATION:PT1H
X-Robots-Tag:noindex
X-PUBLISHED-TTL:PT1H
BEGIN:VTIMEZONE
TZID:Europe/Berlin
BEGIN:DAYLIGHT
TZOFFSETFROM:+0100
TZOFFSETTO:+0200
TZNAME:CEST
DTSTART:20250330T010000
END:DAYLIGHT
BEGIN:STANDARD
TZOFFSETFROM:+0200
TZOFFSETTO:+0100
TZNAME:CET
DTSTART:20251026T010000
END:STANDARD
BEGIN:DAYLIGHT
TZOFFSETFROM:+0100
TZOFFSETTO:+0200
TZNAME:CEST
DTSTART:20260329T010000
END:DAYLIGHT
BEGIN:STANDARD
TZOFFSETFROM:+0200
TZOFFSETTO:+0100
TZNAME:CET
DTSTART:20261025T010000
END:STANDARD
BEGIN:DAYLIGHT
TZOFFSETFROM:+0100
TZOFFSETTO:+0200
TZNAME:CEST
DTSTART:20270328T010000
END:DAYLIGHT
BEGIN:STANDARD
TZOFFSETFROM:+0200
TZOFFSETTO:+0100
TZNAME:CET
DTSTART:20271031T010000
END:STANDARD
END:VTIMEZONE
BEGIN:VEVENT
DTSTART;TZID=Europe/Berlin:20260520T150000
DTEND;TZID=Europe/Berlin:20260524T150000
DTSTAMP:20260421T153942
CREATED:20260116T082058Z
LAST-MODIFIED:20260120T115233Z
UID:10511-1779289200-1779634800@anandawave.de
SUMMARY:Kompetenz trifft Leidenschaft
DESCRIPTION:nächste Termine:\n			        Mai\n			        20\n			        \n    Kompetenz trifft Leidenschaft\n                \n                20. Mai - 24. Mai\n				\n45€ (zzgl. U+V) \nTerminübersicht und AnmeldungTantramassage-Seminar für FortgeschritteneKennst du das? Du lässt dich von einer Person kompetent und engagiert massieren – und trotzdem fehlt etwas? Was berührt uns wirklich\, und wie begleiten wir ein Gegenüber in die Hingabe und Leidenschaft? Wie entstehen Hingabe und Leidenschaft überhaupt? All das und mehr erfährst du in unserem Tantramassage-Seminar „Kompetenz trifft Leidenschaft“. \nLeidenschaft und Tantramassagekunst \nSchönheit\, Hingabe und Leidenschaft in der Tantramassage liegen weniger in der Massagekunst selbst\, als vielmehr in den beteiligten Personen. Sie müssen immer erschaffen und in die Berührung hinein getragen werden. \nWie schön eine Tantramassage wird\, hängt somit wesentlich davon ab\, wer wir als Gebende und Empfangende selbst sind und wie wir mit dem Leben umgehen. \nTantrisch\, spirituelle Haltung \nUm eine Tantramassage mit wahrer Leidenschaft geben zu können\, bedarf es einer Vision. Es kommt darauf an\, wie wir unser Tun in etwas größeres Ganzes\, in Körper\, Verstand und Geist\, in Selbst\, Kultur und Natur so verankern können\, dass es allen Menschen dient. Der Wert einer Tantramassage definiert sich daher nicht nur durch das Beherrschen eines gut eingeübten Tantramassage-Rituals. Genauso wichtig ist es\, aus welcher spirituellen Haltung die massierende Person diese Tätigkeit in die Welt trägt. \nDen Teilnehmenden in diesem Tantramassage-Seminar werden die grundlegenden Eckpfeiler der integralen Spiritualität von Ken Wilber nahegebracht. Zugleich werden sie ermutigt\, sich eine grundlegende spirituelle Lebenspraxis anzueignen\, die das Bewusstsein schult. Somit kann sich diese wertvolle tantrische Körperarbeit aus der höchsten Absicht heraus entfalten und ihre Wirkung trägt in der Gesellschaft Früchte. \nZudem bezieht eine wirkliche effektive und umfassende Ausübung der Tantramassage stets alle vier Dimension unseres Seins mit ein. Diese sind die emotionale\, physische\, mentale und spirituelle Dimension\, Ebene oder Welle. \nWir beginnen das Tantramassage-Seminar daher mit Stille und energetischen Grundübungen. Über die tiefe Verbindung zu unserem Gefühl schaffen wir einen offenen Kanal für die eigene Intuition. Durch das Loslassen erlernter Konzepte entstehen kreative Momente im absoluten Gewahrsein des Augenblicks. Die Essenz der Leidenschaft wird so geboren. Die Tantramassage kann beginnen. \nIntuition und Leidenschaft in der Tantramassage \nDoch Leidenschaft braucht auch Kraft\, Dynamik und Spannung. Wir tanzen zu den Fünf Rhythmen nach Gabrielle Roth und gelangen damit auf eine körperliche\, instinktive Ebene. Dort haben wir Verbindung zu unserem Energiepotenzial und unserem natürlichen Ausdruck. Diesen übertragen wir unmittelbar und intuitiv auf unsere Tantramassage. \nWir beschäftigen uns intensiv mit unserer Intuition\, der Spiritualität und Leidenschaft im Rahmen der Tantramassage. Dabei spielt auch die Frage eine Rolle\, wie weit man sich öffnen kann\, ohne sich zu verlieren. \nAn wen richtet sich dieses Tantramassage-Seminar? \nDiese Veranstaltung richtet sich an zwei Teilnehmer:innenkreise: \nFrauen\, Männer und diverse Personen\, die bereits die Yoni- und Lingam-Massage in Seminaren (bei AnandaWave® oder auch in anderen Tantramassage-Instituten) kennengelernt und eingeübt haben\, und sich weiterbilden wollen\nAngehende Profis der AnandaWave-Profi-Ausbildung TMV® \nDas Seminar ist im Rahmen der Tantramassage Profi-Ausbildung TMV® eingestuft als Level 1\, Modul 4. Es sind jedoch auch alle Menschen ohne berufliche Ambitionen eingeladen an diesem Seminar teilzunehmen. \nTantramassage-Seminar: Inhalte \n\nKonkrete Merkmale der AnandaWave-Tantramassage benennen und umsetzen\nVerschiedene Bewegungssequenzen erlernen und üben\nStille\, Meditation und Chakrenübungen\nIntuition: Das Hier und Jetzt in der Massage\nEnergetisches Grundwissen zur Tantramassage\nUmgang und Integration von Schattenkräften\nDynamik\, Leidenschaft und Atmung in der Massage\nÜbertragung der neuen Erkenntnisse in die eigene Tantramassage mit Yoni- und Lingam\, sowie gegebenenfalls Anal-Massage\n\nBitte lese auch unsere Teilnahme- und Rücktrittsbedingungen\, sowie unsere Rabatte und Zahlungsmodalitäten. \nIm Preis enthalten: Alle Teilnehmenden bekommen ausführliches schriftliches Material zu den Seminarinhalten ausgehändigt. Nach deiner Anmeldung erhältst du von uns einen Link\, um deine Unterkunft und Verpflegung direkt im Seminarhaus zu besonderen AnandaWave-Konditionen zu buchen. \nHier findest du Informationen zu: \n\nTantramassage-Profi-Ausbildung TMV®\nGanzheitliches Jahrestraining\n\nSeminarleitung:Michaela Riedl \nAlle Termine:\n			        Mai\n			        20\n			        \n    Kompetenz trifft Leidenschaft\n                \n                20. Mai - 24. Mai\n				\n			        Sep.\n			        29\n			        \n    Kompetenz trifft Leidenschaft\n                \n                Mittwoch\, 29. September 2027 - Sonntag\, 3. Oktober 2027\n				\nTerminübersicht und Anmeldung
URL:https://anandawave.de/termin/kompetenz-trifft-leidenschaft/
LOCATION:Leuther Mühle\, Nettetal\, 41334\, Deutschland
CATEGORIES:Kompetenz trifft Leidenschaft,Seminare
ATTACH;FMTTYPE=image/jpeg:https://anandawave.de/wp-content/uploads/2021/06/kompetenz-trifft-leidenschaft-scaled.jpg
END:VEVENT
BEGIN:VEVENT
DTSTART;TZID=Europe/Berlin:20260521T190000
DTEND;TZID=Europe/Berlin:20260521T210000
DTSTAMP:20260421T153942
CREATED:20260319T145207Z
LAST-MODIFIED:20260323T173708Z
UID:11571-1779390000-1779397200@anandawave.de
SUMMARY:Scham - Körper - Sexualität
DESCRIPTION:nächster Termin:\n			        Mai\n			        21\n			        \n    Scham – Körper – Sexualität\n                \n                19:00 - 21:00\n				\n45€ (zzgl. U+V) \nTerminübersicht und AnmeldungScham ist eine komplexe Emotion\, die in vielen Disziplinen untersucht wird – sie betrifft Selbst- und Fremdwahrnehmung\, den Körper\, soziale Normen und kulturelle Diskurse. \nScham ist ein leises\, oft verborgenes Gefühl – und gleichzeitig eines der mächtigsten. Sie betrifft nicht nur unseren Körper\, sondern unser ganzes Sein. Sie zeigt sich nicht nur darin\, wie wir uns zeigen\, sondern auch darin\, wie wir uns zurückhalten. In dem Moment\, in dem wir denken: So bin ich zu viel. So bin ich nicht richtig. So darf ich nicht sein.\nIm Kern von Scham steht oft ein sehr tiefer Satz: „Ich bin falsch.“\nNicht: Ich habe etwas falsch gemacht – sondern: Mit mir stimmt etwas nicht.\nDiese Überzeugung entsteht selten plötzlich. Sie wächst aus Erfahrungen\, aus Blicken\, aus Bewertungen\, aus unausgesprochenen Erwartungen. Wir lernen\, uns anzupassen – in unserem Verhalten\, in unserer Sexualität\, in unserer Lebendigkeit. Wir beginnen\, Teile von uns zu verstecken\, zu kontrollieren oder gar nicht erst zu zeigen. Nicht nur der Körper wird reguliert\, sondern auch unsere Stimme\, unsere Lust\, unsere Wildheit\, unsere Bedürfnisse\, unsere Sichtbarkeit.\nUnd gleichzeitig ist Scham etwas zutiefst Menschliches. Sie zeigt\, dass uns Verbindung wichtig ist. Dass wir dazugehören wollen. Dass wir spüren\, wenn etwas in uns in Kontakt gehen möchte – und gleichzeitig Angst hat\, genau darin abgelehnt zu werden.\nVielleicht liegt die eigentliche Frage nicht darin\, wie wir „richtig“ werden.\nSondern darin\, ob wir den Mut finden\, uns dem Gefühl zuzuwenden\, das uns so lange begleitet hat. Wo in deinem Leben glaubst du\, nicht ganz richtig zu sein?\nWelche Anteile von dir hältst du zurück – in deinem Verhalten\, in deiner Sexualität\, in deinem Ausdruck? Und was könnte sich verändern\, wenn der Satz „Ich bin falsch“ langsam Raum bekommt für ein „Ich bin da“. \nWorkshop-Leitung:Marita Quaas \nalle Termine:\n			        Mai\n			        21\n			        \n    Scham – Körper – Sexualität\n                \n                19:00 - 21:00\n				\n			        Nov.\n			        05\n			        \n    Scham – Körper – Sexualität\n                \n                19:00 - 21:00\n				\nTerminübersicht und Anmeldung
URL:https://anandawave.de/termin/scham-koerper-sexualitaet/
CATEGORIES:Scham - Körper - Sexualität,Vorträge & Veranstaltungen
ATTACH;FMTTYPE=image/jpeg:https://anandawave.de/wp-content/uploads/2026/03/scham-koerper-sexualitaet-small.jpg
END:VEVENT
END:VCALENDAR