BEGIN:VCALENDAR
VERSION:2.0
PRODID:-//AnandaWave - ECPv6.15.18//NONSGML v1.0//EN
CALSCALE:GREGORIAN
METHOD:PUBLISH
X-ORIGINAL-URL:https://anandawave.de
X-WR-CALDESC:Veranstaltungen für AnandaWave
REFRESH-INTERVAL;VALUE=DURATION:PT1H
X-Robots-Tag:noindex
X-PUBLISHED-TTL:PT1H
BEGIN:VTIMEZONE
TZID:Europe/Berlin
BEGIN:DAYLIGHT
TZOFFSETFROM:+0100
TZOFFSETTO:+0200
TZNAME:CEST
DTSTART:20250330T010000
END:DAYLIGHT
BEGIN:STANDARD
TZOFFSETFROM:+0200
TZOFFSETTO:+0100
TZNAME:CET
DTSTART:20251026T010000
END:STANDARD
BEGIN:DAYLIGHT
TZOFFSETFROM:+0100
TZOFFSETTO:+0200
TZNAME:CEST
DTSTART:20260329T010000
END:DAYLIGHT
BEGIN:STANDARD
TZOFFSETFROM:+0200
TZOFFSETTO:+0100
TZNAME:CET
DTSTART:20261025T010000
END:STANDARD
BEGIN:DAYLIGHT
TZOFFSETFROM:+0100
TZOFFSETTO:+0200
TZNAME:CEST
DTSTART:20270328T010000
END:DAYLIGHT
BEGIN:STANDARD
TZOFFSETFROM:+0200
TZOFFSETTO:+0100
TZNAME:CET
DTSTART:20271031T010000
END:STANDARD
END:VTIMEZONE
BEGIN:VEVENT
DTSTART;TZID=Europe/Berlin:20260603T150000
DTEND;TZID=Europe/Berlin:20260607T150000
DTSTAMP:20260421T171445
CREATED:20260116T145916Z
LAST-MODIFIED:20260119T183831Z
UID:10679-1780498800-1780844400@anandawave.de
SUMMARY:Paare 2 – Jetzt wird´s intim!
DESCRIPTION:nächster Termin:\n			        Juni\n			        03\n			        \n    Paare 2 – Jetzt wird´s intim!\n                \n                3. Juni - 7. Juni\n				\n45€ (zzgl. U+V) \nzur AnmeldungPaare 2 – jetzt wird´s intim!Ihr habt in unserem Paarseminar oder in einem Grundseminar erfahren\, wie es sich anfühlen kann\, euch als Paar in einer achtsamen und wertschätzenden Atmosphäre auf einer tieferen Ebene zu begegnen. \nEine tantrische Körpermassage zu geben und zu empfangen ist euch nicht neu und ihr wisst um die Wirkung von Vertrauen\, Geborgenheit und Hingabe in eurem Zusammensein. \nJetzt wollt ihr noch tiefer einsteigen und die Intimmassage noch genauer erlernen? Sehr gerne\, wir freuen uns auf euch! \nWir wollen uns mit euch auf die Reise zu eurer Lust ermutigen. Ihr lernt\, eine Intimmassage zu geben und zu empfangen\, die jenseits zielgerichteter Befriedigung\, Performancedruck und Gefallen wollen liegt. Und wir werden euch mit unserem Wissen\, viel Wertschätzung und auch einer Prise Humor bei dieser Reise begleiten. \nDas Seminar ist für alle Paare gedacht\, die bereits die AnandaWave-Ganzkörpermassage gelernt haben und nun in die Selbsterfahrung ihres Schoßraumes eintauchen wollen. \nWir unterrichten in diesem Seminar Techniken\, mit denen ihr eine wundervolle Intim-Massage gestalten könnt und begleiten euch dabei\, eure eigene Massage individuell und aktiv mitzugestalten bzw. der empfangenden Person einen guten Raum für das eigene Erleben zu schenken. \nInhalte / Struktur: \n\nZeit\, euch als Liebespaar zu begegnen und die Wirkung von Vertrauen\, Geborgenheit\, Achtsamkeit und Hingabe zu spüren\nAuffrischung der Anandwave Ganzkörpermassage\nTechniken der AnandaWave Intimmassage\, die euch dazu ermutigen\, euer sexuelles Empfinden zu erforschen\nDemonstration der Analmassage\nWissen über Anatomie und Körperlichkeit mit viel Raum für Fragen\nAls Paar miteinander kommunizieren lernen über Wünsche und Sorgen\, Lust und Unlust\nDie Paarbeziehung wieder lebendig und sinnlich gestalten\n\nDie Essenz dieses Seminars bewegt sich auf der Ebene der Achtsamkeit und Wertschätzung für das\, was im Moment ist. Es geht um Kontakt\, Intimität und Nähe in einem geschützten Rahmen. \nEingeladen sind Paare\, die sich auf eine neue\, intensive Art und Weise erleben und ihre Partnerschaft um sinnliche und emotionale Facetten bereichern möchten. \nVoraussetzungen für die Teilnahme: \nDie Anmeldung ist für Teilnehmende der AnandaWave®-Seminare oder vergleichbarer Anbieter nach dem Besuch eines tantrischen Körpermassage-Seminars – wie zum Beispiel dem Paarseminar oder dem Grundseminar – offen. \nEs ist möglich\, dass ihr im Laufe des Seminars intensive emotionale Erfahrungen macht. Da wir keine Therapie anbieten\, möchten wir euch bitten\, in Ruhe zu entscheiden\, ob ihr physisch und psychisch in der Lage seid\, damit umzugehen. Wir behalten uns vor\, eine Teilnahme vor oder auf dem Seminar anbieterseitig abzusagen\, wenn wir den Eindruck haben\, dass Umfang oder Intensität des Seminars eine teilnehmende Person überfordert. \nDieses Seminar bereitet auf unsere Profi-Ausbildung TMV® vor. \nDetails unsere Teilnahme- und Rücktrittsbedingungen: \nBitte lies auch unsere Teilnahme- und Rücktrittsbedingungen\, sowie unsere Rabatte und Zahlungsmodalitäten. \nWenn ihr noch Fragen habt oder einfach mehr wissen wollt\, dann interessiert euch vielleicht unsere kostenlose Infoveranstaltung zum Paarseminar per Zoom. \nSeminarleitung:Nicole Schuttenberg\, Madlen Thonhauser \nalle Termine:\n			        Juni\n			        03\n			        \n    Paare 2 – Jetzt wird´s intim!\n                \n                3. Juni - 7. Juni\n				\n			        Apr.\n			        14\n			        \n    Paare 2 – Jetzt wird´s intim!\n                \n                Mittwoch\, 14. April 2027 - Sonntag\, 18. April 2027\n				\nzur Anmeldung
URL:https://anandawave.de/termin/paare-2-jetzt-wirds-intim-2/
CATEGORIES:Paare 2 - jetzt wird´s intim!,Seminare
ATTACH;FMTTYPE=image/jpeg:https://anandawave.de/wp-content/uploads/2021/06/entdeckungsreise-fuer-paare-scaled.jpg
END:VEVENT
END:VCALENDAR