BEGIN:VCALENDAR
VERSION:2.0
PRODID:-//AnandaWave - ECPv6.15.18//NONSGML v1.0//EN
CALSCALE:GREGORIAN
METHOD:PUBLISH
X-ORIGINAL-URL:https://anandawave.de
X-WR-CALDESC:Veranstaltungen für AnandaWave
REFRESH-INTERVAL;VALUE=DURATION:PT1H
X-Robots-Tag:noindex
X-PUBLISHED-TTL:PT1H
BEGIN:VTIMEZONE
TZID:Europe/Berlin
BEGIN:DAYLIGHT
TZOFFSETFROM:+0100
TZOFFSETTO:+0200
TZNAME:CEST
DTSTART:20250330T010000
END:DAYLIGHT
BEGIN:STANDARD
TZOFFSETFROM:+0200
TZOFFSETTO:+0100
TZNAME:CET
DTSTART:20251026T010000
END:STANDARD
BEGIN:DAYLIGHT
TZOFFSETFROM:+0100
TZOFFSETTO:+0200
TZNAME:CEST
DTSTART:20260329T010000
END:DAYLIGHT
BEGIN:STANDARD
TZOFFSETFROM:+0200
TZOFFSETTO:+0100
TZNAME:CET
DTSTART:20261025T010000
END:STANDARD
BEGIN:DAYLIGHT
TZOFFSETFROM:+0100
TZOFFSETTO:+0200
TZNAME:CEST
DTSTART:20270328T010000
END:DAYLIGHT
BEGIN:STANDARD
TZOFFSETFROM:+0200
TZOFFSETTO:+0100
TZNAME:CET
DTSTART:20271031T010000
END:STANDARD
BEGIN:DAYLIGHT
TZOFFSETFROM:+0100
TZOFFSETTO:+0200
TZNAME:CEST
DTSTART:20280326T010000
END:DAYLIGHT
BEGIN:STANDARD
TZOFFSETFROM:+0200
TZOFFSETTO:+0100
TZNAME:CET
DTSTART:20281029T010000
END:STANDARD
END:VTIMEZONE
BEGIN:VEVENT
DTSTART;VALUE=DATE:20260708
DTEND;VALUE=DATE:20270525
DTSTAMP:20260422T050201
CREATED:20250212T113303Z
LAST-MODIFIED:20260204T073026Z
UID:8729-1783472400-1811120399@anandawave.de
SUMMARY:Ganzheitliches Jahrestraining - Modul 1-4 2026
DESCRIPTION:nächster Termin:\n			        Juli\n			        08\n			        \n    Ganzheitliches Jahrestraining – Modul 1-4 2026\n                \n                8. Juli - Montag\, 24. Mai 2027\n				\n2490€ (zzgl. U+V) \nzur AnmeldungDie Kunst der Kultivierung von Sinnlichkeit\, Verbundenheit\, Spiritualität und Massage\nFür persönlich interessierte und beruflich ambitionierte Teilnehmende\, sowie Anfänger:innen und Fortgeschrittene. Offen für Einzelpersonen und Paare. \nMit einer Portion Mut\, Neugierde und Humor befähigen wir Menschen in diesem Jahrestraining\, sich auf den Weg zu sich selbst zu machen und sich folgende Sinnfragen zu stellen: \n\nWer bin ich\, woher komme ich und warum bin ich hier?\nWas habe ich dieser Welt zu geben und welche Kostbarkeiten hält sie für mich bereit?\nWelche meiner mir innewohnenden Potentiale möchte ich entdecken und in die Welt tragen\, zum Wohle aller Beteiligten?\nWie entfalte ich meine Sinnlichkeit und meine erotische Intelligenz?\nWas ist mein höchstes Anliegen und wie möchte ich meine Spiritualität leben\n\nAufgeteilt in 4 Abschnitte lehren wir in diesem Jahrestraining zudem die komplette AnandaWave-Tantramassage\, so wie diese auch in unserem Tantramassage-Grundseminar vermittelt wird. \nDurch eine der tantrischen Philosophie verbundene Haltung und nahe Begegnungen in der Tantramassage haben wir die Möglichkeit mit uns selbst und anderen Menschen in einen tieferen Kontakt zu kommen. Dabei werden wir ständig konfrontiert mit unserem Innenleben\, unseren Bedürfnissen\, Sehnsüchten und Verletzungen\, sowie unserer Schönheit\, unseren Stärken und auch vermeintlichen Schwächen. Ebenso begegnen wir Aspekten aus unserer Prägung und vielen erlernten Bewertungsmustern\, die uns oft an einem freien und wertschätzenden Kontakt mit uns und anderen hindern. \nDurch das Erlernen von achtsamer und liebevoller Berührung erkennen wir uns selbst immer klarer. Unsere Eigenheiten\, Ängste\, und vor allem auch unsere ungelebten und bis dahin meist ungeliebten Potentiale. Dabei wachsen wir\, richten uns in Würde auf und können Verantwortung übernehmen – zuerst für uns selbst und dann auch für andere. Wir erleben unsere Selbstwirksamkeit und erkennen darin auch unsere Gaben für die Welt. Diesen Bewusstwerdungsprozess möchten wir mit dem ganzheitlichen\, tantrischen Jahrestraining noch um ein Vielfaches vertiefen\, weshalb dieses Jahrestraining sowohl für tantrische Anfänger:innen\, als auch für tantrisch Fortgeschrittene sehr geeignet ist. \nWir werden unseren Blick auf uns selbst erweitern\, ebenso wie die Sicht auf unser Umfeld. Wir werden die sozialen und emotionalen Strukturen die uns geprägt haben und prägen\, neu betrachten lernen. Und so unser Leben aktiver und bewusster gestalten. \nDas tantrische Grundgefühl der Verbundenheit von allem ist in unserer Welt\, die immer mehr trennt und bewertet\, ein großer Schatz. Wir vermitteln in diesem Jahrestraining einen angemessenen Umgang mit Gefühlen\, die Entwicklung einer achtsamen und bewussten inneren Haltung und eine innere Öffnung für seelische Dimensionen\, die auch als transpersonales Bewusstsein benannt werden kann. \nLebendiger Körperausdruck\, das Erwerben von sinnlichen Kompetenzen\, das Einnehmen unterschiedlicher Perspektiven\, Meditation und Introspektion sind ebenso Elemente dieser Seminarreihe\, wie die intensive Auseinandersetzung mit der „dunklen Seite“ unserer Psyche\, den verdrängten Schattenanteilen in jedem von uns. \nWir begleiten dich auf dieser Reise mit viel Erfahrung\, Wissen\, Einfühlungsvermögen und unserer Liebe für die Menschen. \nWir freuen uns auf dich! \nDas tantrisch\, integrale Jahrestraining ist in vier Abschnitte aufgeteilt und vermittelt folgende Inhalte:\nAlle Module können in anderen Jahresgruppen nachgeholt oder auch wiederholt werden.\n \nModul 1:\n21.05. bis 25.05.2025 \n1. Abschnitt: Inneres Kind und biographische Klärung\, VerehrungsritualIn diesem Abschnitt wirst du angeleitet\, dich vorrangig dem Kontakt zu deinem inneren Kind auf liebevoller und verbundener Weise zu widmen\, dessen Persönlichkeitsanteile sich wesentlich in den ersten sechs Jahren entwickeln. Prägenden Glaubensmustern gehen wir auf den Grund und beleuchten\, wie sie unsere Wahrnehmung und Grundüberzeugungen bestimmen. Mit der gewonnenen Erkenntnis kannst du diese in deinem Sinne umwandeln und für dich sinnvoll nutzbar machen. \nWir ebnen so den Weg für einen liebevollen Kontakt zwischen deinem inneren Kind und deinen inneren liebevollen Erwachsenen als Ressource für mehr Balance und Stabilität in deinem alltäglichen Leben und auch in zukünftigen Massagebegegnungen. \nPassend dazu geben wir uns dem Kernthema der tantrischen Massage hin: Der Verehrung! \nDie Grundhaltung der Verehrung manifestiert sich u.a. in der rituellen Form des Verehrungsrituals\, welches am Anfang einer jeden Tantramassage steht. Dieses verehrende Ritual ermöglicht es beiden Beteiligten\, aus dem Alltagsgeschehen heraus zu treten und die eigene Sinnlichkeit in Würde und Schönheit zu erleben. \nWillkommensein und das vermitteln einer akzeptierenden Sicherheit sind hier die wesentlichen Qualitäten. \nDie Themen des ersten Abschnitts im Überblick: \n\n Kreative Trance zur Erforschung der Kind-Identität\n„Holding“ für das innere Kind\nArbeit mit Glaubenssätzen & Überzeugungen\nSelbsterforschung im Eltern-/liebevoller Erwachsener-Kind-Setting\nEinführung in das tantrische Verehrungsritual\nDie Verneigung vor dem was größer ist als ich selbst\nVerbindung von Herz und Augen\, Voraussetzung für eine authentische Begegnung.\n\nModul 2:\n10.09. bis 14.09.2025 \n2. Abschnitt: Integration unbewusster Licht- und Schattenanteile\, Massage der Yang-SeiteGerade wenn wir spirituell wachsen wollen\, ist es wichtig\, dass wir uns auch mit unserem „Schatten“\, den im Dunklen liegenden und unbewussten Anteilen unserer Psyche auseinandersetzen\, denn sonst verfolgt uns dieser Schatten unter Umständen bis zur Erleuchtung und wieder zurück. \nDer Begriff Schatten bezeichnet das persönliche Unbewusste oder die Aspekte unseres Daseins\, welche für uns oft sehr überfordernd sind – ganz gleich\, ob wir sie als hinderlich oder hilfreich erleben oder betrachten – wir haben oft Schwierigkeiten\, sie zu akzeptieren und versuchen sie zu unterdrücken\, zu verleugnen\, abzuspalten oder zu verstoßen.\nSie wegzuschieben heißt jedoch nicht\, sie wirklich loszuwerden. Im Gegenteil\, sie kehren zurück\, um uns daran zu hindern\, das Leben zu führen\, was wir uns tief in unserem Herzen wünschen zu führen. Wir werden zu Schattenboxern immer wiederkehrender unbewusster Lebensmuster. \nDoch im Grunde sind unsere Schatten wie verborgene Schätze\, angefüllt mit unbekannter\, schöpferischer und kraftvoller Energie\, die wir kreativ nutzen können. \nIn diesem Abschnitt begibst du dich\, basierend auf dem Konzept der Heldenreise von Paul Rebillot\, auf eine aufregende Reise in deine Schattenwelt. \nDu erwirbst einen heilsamen und angemessenen Umgang mit deinen Schattenanteilen indem du befähigt wirst\, diese aus einem anderen Blickwinkel zu betrachten\, die Energie des Schattens liebevoll anzunehmen und diese Kraft so wieder für dich nutzbar zu machen. \nPassend dazu vermitteln wir die komplette Yang-Seite (Rückseite) der AnandaWave-Massage: \nUnsere Yang-Seite offenbart aus energetischer Sicht grundsätzlich die Seite von uns\, mit der wir uns geschützt\, sicher und geborgen fühlen. Der ganze Körper wird massiert\, verehrt\, berührt und genährt. Die Massage vor allem der Yang-Seite weckt die Körperenergien und bringt sie ins Gleichgewicht. Aus dieser Entspannung heraus kann sich tiefer Frieden und sinnliche Lust im ganzen Körper ausbreiten.\nDer auf der Yang-Seite hauptsächlich angewandte mäßig starke Druck und die fortlaufend fließenden Berührungen beruhigen das parasympathische Nervensystem. Das hat positive Auswirkungen auf unser Gesamtempfinden\, lindert Stress und Angst und wirkt beruhigend. \nDie Themen des zweiten Abschnitts im Überblick: \n\nKreative Trance-Reise zur Schattenintegration\nVerkörperung der Helden- und Dämonenkraft\nStimmausdruck und Begegnung mit unseren „wilden Kräften“\nRückkehr in das Selbst\nErlernen der sinnlichen AnandaWave -Tantramassage auf der Rückseite (Yang)\nBegegnung erforschen\, Begegnung erlauben\, Begegnung verstehen\nEntwicklung einer selbstbewussten\, emphatischen und professionellen Haltung im Umgang mit der empfangenden Person\n\nModul 3:\n03.12. bis 07.12.2025 \n3. Abschnitt: Sinnlichkeit\, Verbundenheit und Höheres Bewusstsein\, Massage der Yin-SeiteDie Vorstellung\, dass alles mit allem verwoben ist\, ist in der Geistesgeschichte der Menschheit im Westen wie im Osten eine bekannte Überzeugung. Diese Annahme ist der Einsicht geschuldet\, dass es bei aller Individualität stets auch etwas Allgemeines und Verbindendes zwischen den Menschen gibt und geben muss und das dieses Verbindende unverzichtbar für das Zusammenleben aller Wesen ist.\nIn diesem Modul erforschen wir gemeinsam Bereiche\, die über die persönliche Ebene der Psyche hinausgehen und auf die Beziehung zum Spirituellen oder auch der Ganzheit ausgerichtet sind. Im Fokus steht dabei klar das Individuum\, welches in seiner Einzigartigkeit gewürdigt wird. \nIn diesem Abschnitt beschäftigen wir uns mit unterschiedlichen Übungen zur Erforschung unserer Sinnlichkeit\, Verbundenheit und unseres höheren Bewusstseins. \nPassend dazu begeben wir uns in die Welt der Magie unserer Sinne mit der Vermittlung der kompletten Yin-Seite (Vorderseite) der AnandaWave-Massage: \nMit der Yin-Seite drehen und öffnen wir uns vertrauensvoll in unsere mehr empfängliche und verletzliche Seite unseres Körpers und unseres Seins. Dieses tiefe Gefühl des Genährtseins und Ankommens im eigenen Körper\, wie sie durch die Massage der Yinseite erfahren werden kann\, ermöglicht uns eine wache und präsente Eigenwahrnehmung\, was die Basis für erfüllend erlebte Sinnlichkeit und Spiritualität ist.\nDurch die mehr verspielten Berührungen und den hingebungsvollen Bewegungssequenzen der tantrischen Yin-Massage erfahren wir tiefe Verbundenheit und wir widmen uns bewusst dem Reichtum und der Fülle unserer Erfahrungen im Hier und Jetzt. Somit fördern wir nicht nur die Selbstwahrnehmung\, sondern auch die Fähigkeit des In-den-Anderen-Einfühlens. \nDie Themen des dritten Abschnitts im Überblick: \n\nGedanken & Erläuterungen zum Zugang zu Verbundenheit\, Sinnlichkeit & deiner eigenen Spiritualität\nEinsatz von Meditation\, Bewegung und Atemtechniken zur Erlangung veränderter Bewusstseinszustände\nDryaden-Arbeit: Enlightment intensiv: Ritualstruktur des „Wer-bin-ich“\nTrance-Tanz & Meditation als meditativer\, transformierender Prozess\nErlernen der sinnlichen AnandaWave -Tantramassage auf der Vorderseite (Yin)\nFörderung von Selbstverantwortung auf der einen und mitfühlender Präsenz und Achtsamkeit auf der anderen Seite\nErlernen von Bewegungssequenzen zur Förderung von Hingabe und Öffnung.\n\nModul 4:\n22.04. bis 26.04.2026 \n4. Abschnitt: Körperbewusstsein\, Intimität und bewusste Sexualität\, Yoni- und Lingam-MassageSich gut im eigenen Körper zu Hause zu fühlen\, sich flexibel und frei ausdrücken zu können sind Grundvoraussetzungen für eine gute und bewusst gelebte Sinnlichkeit und Sexualität. Durch die Wahrnehmung von Körperempfindungen wird das Erleben von Gefühlen unterstützt\, weshalb wir bewusst lernen\, unsere Gefühle anzunehmen und auszudrücken. Du lernst deine Körperhaltung\, deine Körperpräsenz und deinen Körperausdruck einzusetzen\, um positive Gefühle\, Stimmungen und Erlebensqualitäten wie Freude\, Stolz\, Kraft\, Sinnlichkeit und Leichtigkeit zu wecken und zu verstärken.\nZudem geht es in diesem Modul um die Entdeckung und Entfaltung durch intime Begegnung mit uns selber und unserer Sexualität in einem wirkungsvollen Rahmen voller Mitgefühl und geborgener Gruppenenergie. Im Rahmen einer ganzheitlichen Persönlichkeitsentwicklung ist ein bewusster und natürlicher Umgang mit Intimität und unserer Sexualität stets eine Quelle von Lebensfreude\, Selbstvertrauen und lustvollem Kontakt mit uns. In diesem Abschnitt geht es daher ganz wesentlich darum\, Sexualität und ein positives Körpergefühl komplett neu zu erleben\, u.a. als etwas\, was dir ursprünglich innewohnt und dir nicht nur unter günstigen Umständen von einer:m geeigneten Partner:in geschenkt wird oder eben nicht. \nPassend dazu geht es in diesem Abschnitt um die theoretische und demonstrative Einführung in die Yoni– und Lingam-Massage \nDas Besondere an Tantramassagen im Unterschied zu anderen „alternativen“ Massageformen ist das bewusste und konkrete Einbeziehen des Intimbereichs\, der Yoni bei der Frau und des Lingams beim Mann.\nBei der Yoni- und Lingam-Massage gibt es kein Wollen\, kein Begehren\, kein Müssen\, keine Leistung – einfach nur Dasein! Aus dem Zustand absoluter Achtsamkeit und Präsenz beginnt diese tantrische Intimmassage und eröffnet einen weiten\, tiefen Raum\, der nichts weiter ist als reine Liebe. Du bist nackt\, dein Gegenüber ist nackt\, es liegt nichts Trennendes mehr zwischen dir und der gebenden Person und du spürst es: Den Tanz der Hände auf deinem Körper. Dieser Tanz umhüllt dich\, schenkt dir Vertrauen und Geborgenheit.\nSchrittchen für Schrittchen ist es dir nun möglich in Kommunikation mit deinem eigenen Intimbereich zu gehen und diesen ganz neu zu erleben. \nAm letzten Abend kannst du im Rahmen eines festlichen Rituals Teilbereiche der Yoni- und der Lingam-Massage einüben. \nDie Themen des vierten Abschnitts im Überblick: \n\nContinuum Movement – Bewegungsmeditition\nMobilisieren vitaler Beckenenergie\nFühren eines Herz-Sex-Dialogs in der Einzelarbeit\nBeschreiben des eigenen Idealen Sexuellen Szenarios\nVerehrung der weiblichen und männlichen Sexualität als zentrales Thema\nTheoretische und demonstrative Einführung in die Yoni- und Lingam-Massage\nÜben der Yoni- bzw. Lingam-Massage im Rahmen eines festlichen Rituals\n\n\nZeitrahmen: \nMittwoch: 15.00 bis ca. 21.00 Uhr (Beginn mit Kaffee und Kuchen\, 16.00 Uhr Seminarbeginn)\nDonnerstag – Samstag: 09.30 bis ca. 22.00 Uhr\nSonntag: 9.30 bis 16.00 Uhr \nKosten: \n2490\,00 € pro Person (zzgl. Unterkunft und Verpflegung) \nIm Preis enthalten: \nAlle Teilnehmenden bekommen ausführliches schriftliches Material zu den Seminarinhalten der jeweiligen Module ausgehändigt.\nNach der verbindlichen Anmeldung erhältst du von uns einen Link\, um deine Unterkunft und Verpflegung direkt im Seminarhaus zu besonderen AnandaWave®-Konditionen zu buchen. \nSeminarleitung:Alma Wagener und Elisabetta Partenopeo \nTermine\n			        Juli\n			        08\n			        \n    Ganzheitliches Jahrestraining – Modul 1-4 2026\n                \n                8. Juli - Montag\, 24. Mai 2027
URL:https://anandawave.de/termin/ganzheitliches-jahrestraining-modul-1-4-2026/
LOCATION:Leuther Mühle\, Nettetal\, 41334\, Deutschland
CATEGORIES:Ganzheitliches Jahrestraining 2026,Seminare
ATTACH;FMTTYPE=image/jpeg:https://anandawave.de/wp-content/uploads/2021/07/jahrestraining-scaled.jpg
END:VEVENT
BEGIN:VEVENT
DTSTART;TZID=Europe/Berlin:20261229T180000
DTEND;TZID=Europe/Berlin:20270101T150000
DTSTAMP:20260422T050202
CREATED:20241218T085707Z
LAST-MODIFIED:20260120T120322Z
UID:8475-1798567200-1798815600@anandawave.de
SUMMARY:AnandaWave Silvester Seminar
DESCRIPTION:nächster Termin:\n			        Dez.\n			        29\n			        \n    AnandaWave Silvester Seminar\n                \n                29. Dezember - Freitag\, 1. Januar 2027\n				\n45€ (zzgl. U+V) \nTerminübersicht und AnmeldungMit AnandaWave ein tantrisches Silvester feiern!\nRituale und Massagen für einen kraftvollen Jahresauftakt 2026/2027 Tantramassage-Seminar für Anfänger:innen und Fortgeschrittene\, persönlich interessierte und beruflich ambitionierte Teilnehmende.\nOffen für Einzelpersonen und Paare\, Frauen\, Männer und diverse Personen. \nErlebe einen besonderen Jahreswechsel\, der dich stärkt\, nährt und ausrichtet.\nUnser Silvesterseminar lädt dich ein\, mit Freude\, Tanz\, Massage und innerem Wachstum in das neue Jahr zu starten – verbunden mit dir selbst\, mit anderen und mit dem\, was in dir entstehen möchte. \nIn einer lebendigen Gemeinschaft von Menschen erschaffen wir gemeinsam einen Raum voller Herzlichkeit\, Präsenz und Lebendigkeit. Hier darfst du auftanken\, dich zeigen und neue Qualitäten von Verbundenheit erleben.\nWir richten unseren Blick bewusst auf das\, was wachsen will: auf Fülle\, Klarheit\, tiefe Begegnungen und eine kraftvolle innere Ausrichtung für das kommende Jahr. \nRaum für Entwicklung\, Lebendigkeit und neue Erfahrungen \nRituale und gemeinsame Prozesse unterstützen dich dabei\, dich innerlich auszurichten und deine Aufmerksamkeit auf das zu lenken\, was dich nährt und stärkt. So entsteht Raum für Wachstum\, neue Erfahrungen und Möglichkeiten\, die dein Leben bereichern können.\nDu wirst eingeladen\, mit Klarheit\, innerer Kraft und Herzensverbindung ins neue Jahr zu gehen und die nächsten Schritte bewusst zu gestalten. \nEin abwechslungsreiches Programm stellt die nährende und befreiende Kraft achtsamer Begegnungen mit dir selbst und anderen in den Mittelpunkt.\nBerührungs- und Massageeinheiten fördern dein Wohlbefinden und deine Körperwahrnehmung\, während stille und geführte Meditationen dich dabei unterstützen\, dich zu sammeln\, zu fokussieren und dich mit deinem inneren Kompass zu verbinden. \nUnsere Tantramassage \nUnsere Tantramassage (ohne Yoni- und Lingam-Massage) wird in zwei Massagesequenzen vermittelt\, die dir einen authentischen Eindruck von Tiefe\, Dynamik\, Fluss und Technik der AnandaWave-Tantramassage geben.\nTauche ein in ein Gefühl von Zeitlosigkeit\, erlebe intensive körperliche Empfindungen und öffne dich für Sinnlichkeit\, Präsenz und emotionale Berührbarkeit. \nDieses Seminar richtet sich an Menschen\, die ihr Leben bewusster gestalten und mehr Sinn\, Tiefe und Erfüllung erfahren möchten. Wenn du offen bist für Selbstreflexion\, Entwicklung und einen achtsamen Lebensstil\, findest du hier wertvolle Impulse und Inspirationen. \nDu nimmst konkrete Einsichten\, Übungen und Erfahrungen mit\, die dich über diese besondere Zeit hinausbegleiten können und sich stimmig in deinen Alltag integrieren lassen. \nWir freuen uns darauf\, dich willkommen zu heißen und diesen Jahresauftakt gemeinsam zu gestalten. \nFolgende Tantra-Inhalte werden vermittelt: \n\n\n\nLebendige Begegnungen\, Austausch und Gemeinschaft in einem herzoffenen Raum mit Menschen\, die – wie du – Sinnlichkeit\, Präsenz und persönliche Entwicklung erforschen möchten.\nInspirierende Rituale zur inneren Ausrichtung\, die dich dabei unterstützen\, dich bewusst auf das kommende Jahr einzustimmen und das zu stärken\, was in dir wachsen will.\nInnere Reisen und geführte Prozesse\, die dir ermöglichen\, dich tiefer kennenzulernen\, deine Ressourcen zu aktivieren und deine persönliche Entwicklung bewusst zu vertiefen.\nStärkung von Achtsamkeit\, Selbstwahrnehmung und Selbstliebe durch stille und geführte Meditationen\, die dich sammeln\, klären und mit deinem inneren Kompass verbinden.\nKörper- und Erfahrungsübungen\, die dich für Veränderung\, Neuausrichtung und die Verkörperung deiner Herzensimpulse im neuen Jahr öffnen.\nBerührende Tantramassagen (ohne Yoni-Lingammassage)\, als Nahrung für die Seele.\n\n\n\nDas Seminar dient im Rahmen der Tantramassage Profi-Ausbildung TMV® als Schnupperseminar. Alle Menschen\, mit oder ohne Vorerfahrung\, sind eingeladen\, an diesem Seminar teilzunehmen. \nBitte lese auch unsere Teilnahme- und Rücktrittsbedingungen\, sowie unsere Rabatte und Zahlungsmodalitäten. \nNach deiner verbindlichen Anmeldung erhältst du von uns einen Link\, um deine Unterkunft und Verpflegung direkt im Seminarhaus zu besonderen AnandaWave-Konditionen zu buchen. \nHier findest du Informationen zu: \n\nTantramassage-Profi-Ausbildung TMV®\nGanzheitliches Jahrestraining\n\nSeminarleitung:Michaela Riedl und Team \nalle Termine:\n			        Dez.\n			        29\n			        \n    AnandaWave Silvester Seminar\n                \n                29. Dezember - Freitag\, 1. Januar 2027\n				\n			        Dez.\n			        29\n			        \n    AnandaWave Silvester Seminar\n                \n                Mittwoch\, 29. Dezember 2027 - Sonntag\, 2. Januar 2028\n				\nTerminübersicht und AnmeldungFeedback:\nSo ein paar tantrische Tage erzeugen viel Nachklang bei mir und ich gebe euch gerne noch eine schriftliche Rückmeldung. \nIm Vordergrund standen für mich die beiden Massagesequenzen. Sie haben mir sehr gutgetan. \nEine positive Überraschung war\, dass auch getrommelt und gesungen wurde und in besonderer Erinnerung wird wohl der Jahreswechsel bleiben: Nach der Trommelrunde kam begleitet von schwungvoller Musik Anna fröhlich hereingetanzt. \nBesonders beeindruckt hat mich die Übung am letzten Vormittag. 10 Minuten Wunschzeit für jeden. Ich dachte erst: wie kurz. Aber in diesen 10 Minuten hat sich dann doch sehr viel getan bei mir und auch das Begleiten war eine wertvolle Erfahrung. \nEtwas klarer ist mir jedenfalls geworden\, warum sich Tantra auch als Friedensarbeit bezeichnen lässt. \nEuch und eurem tollen Assistententeam vielen Dank für die belebenden Tage. Nach dem Tod meiner Eltern im letzten Jahr ist einfach wieder mehr Energie da\, nach vorne zu schauen und neugierig auf die Zukunft zu sein. \n  \nViele Grüße\, Johannes \nJohannes (Silvester)
URL:https://anandawave.de/termin/anandawave-silvester-seminar/
LOCATION:Leuther Mühle\, Nettetal\, 41334\, Deutschland
CATEGORIES:AnandaWave Silvester Seminar,Seminare
ATTACH;FMTTYPE=image/jpeg:https://anandawave.de/wp-content/uploads/2024/12/silvesterseminar-big.jpg
END:VEVENT
END:VCALENDAR