BEGIN:VCALENDAR
VERSION:2.0
PRODID:-//AnandaWave - ECPv6.15.20//NONSGML v1.0//EN
CALSCALE:GREGORIAN
METHOD:PUBLISH
X-ORIGINAL-URL:https://anandawave.de
X-WR-CALDESC:Veranstaltungen für AnandaWave
REFRESH-INTERVAL;VALUE=DURATION:PT1H
X-Robots-Tag:noindex
X-PUBLISHED-TTL:PT1H
BEGIN:VTIMEZONE
TZID:Europe/Berlin
BEGIN:DAYLIGHT
TZOFFSETFROM:+0100
TZOFFSETTO:+0200
TZNAME:CEST
DTSTART:20260329T010000
END:DAYLIGHT
BEGIN:STANDARD
TZOFFSETFROM:+0200
TZOFFSETTO:+0100
TZNAME:CET
DTSTART:20261025T010000
END:STANDARD
BEGIN:DAYLIGHT
TZOFFSETFROM:+0100
TZOFFSETTO:+0200
TZNAME:CEST
DTSTART:20270328T010000
END:DAYLIGHT
BEGIN:STANDARD
TZOFFSETFROM:+0200
TZOFFSETTO:+0100
TZNAME:CET
DTSTART:20271031T010000
END:STANDARD
BEGIN:DAYLIGHT
TZOFFSETFROM:+0100
TZOFFSETTO:+0200
TZNAME:CEST
DTSTART:20280326T010000
END:DAYLIGHT
BEGIN:STANDARD
TZOFFSETFROM:+0200
TZOFFSETTO:+0100
TZNAME:CET
DTSTART:20281029T010000
END:STANDARD
END:VTIMEZONE
BEGIN:VEVENT
DTSTART;TZID=Europe/Berlin:20270825T150000
DTEND;TZID=Europe/Berlin:20270829T150000
DTSTAMP:20260423T061827
CREATED:20260116T112546Z
LAST-MODIFIED:20260119T175935Z
UID:10593-1819206000-1819551600@anandawave.de
SUMMARY:Schoßraumzeit für Frauen
DESCRIPTION:nächster Termin:\n			        Aug.\n			        25\n			        \n    Schoßraumzeit für Frauen\n                \n                Mittwoch\, 25. August 2027 - Sonntag\, 29. August 2027\n				\n45€ (zzgl. U+V) \nTerminübersicht und AnmeldungIntensive Schoßraumforschungszeit im geschützten Kreis der FrauenSchoßraumzeit für Frauen — verbinde dich mit deiner Essenz\nFür wen ist dieses Tantramassage-Seminar:\nIn diesem Seminar sind alle Menschen willkommen\, die sich als Frau identifizieren und die gemeinsam mit anderen Frauen in eine intensive Schoßraumforschungszeit gehen möchten\, ganz unabhängig von der Vorerfahrung in tantrischer Körperarbeit. \nDu hast dich bisher noch nicht mit der Tantramassage beschäftigt\, aber bist neugierig auf eine Erforschung deiner Lebensfreude und Sexualität\, die mit achtsamen tantrischen Methoden der Körperarbeit gestaltet wird? Im Kreis von Frauen ermutigen wir dich\, deine ganz eigene Vision einer erfüllten Sexualität zu formulieren und gemeinsam mit uns Neuland zu erobern. \nDu bringst du bereits Erfahrungen in der Tantramassage mit? Dann bist du herzlich eingeladen\, in liebevoll und traumasensibel gestalteten Räumen auf eine Reise zu dir selbst zu gehen. Wir machen dich vertraut mit Methoden\, die deine tantrische Körperarbeit ergänzen und bereichern werden und unterstützen dich dabei\, deinen eigenen individuellen Ausdruck zu finden. \nWie immer in unseren Seminaren legen wir großen Wert auf die persönliche Selbstverantwortung und ermutigen dich darin\, eigene Grenzen wahrzunehmen und zu kommunizieren. \nThemen und Inhalte \nWie gut ist deine Verbindung zu deinem Schoßraum bzw. zu deiner Vulva und Vagina?\nLebst du die Sexualität\, die du dir wünschst? \nWelche Erfahrungen und Glaubenssätze haben dich geprägt?\nWir möchten dich dazu einladen\, neue Bereiche in deiner Sexualität für dich zu erobern und selbst in die Hand zu nehmen und dich auf dem Weg zu einer selbst bestimmten\, emanzipierten und freudvollen Körperlichkeit und Sexualität begleiten. Entdecke dich neu mit deiner Geschichte\, deinen Erlebnissen und Erfahrungen.\nFinde deinen Platz im großen Gewebe des Lebens\, jenseits vorgefertigter Meinungen: Wie mag sich dein Frau-Sein ausdrücken? Wie möchtest du deine Sexualität und Sinnlichkeit zum Erblühen bringen? Was brauchst du\, um ein Ja zu deinem Körper und deiner Weiblichkeit aussprechen zu können? \nDieses Frauenseminar ist eine Einladung\, in deine eigene Größe und Selbstmächtigkeit zu wachsen. Erlebe deinen Mut\, dein eigenes sexuelles Begehren zu entdecken und zu leben. Wir nehmen dich mit auf eine Reise zu der Quelle deiner Lust und Lebensfreude. \nIn einem Raum voller Möglichkeiten\, liebevoll und kompetent begleitet\, kannst du deinen ganz persönlichen Weg finden. Schöpfe deine Kraft aus den nahezu unendlichen Facetten\, dich als sinnliches Wesen auszudrücken. \nGemeinsam stärken wir uns gegenseitig mit Solidarität\, Nähe und Anerkennung für unsere Vielfalt und Unterschiedlichkeit. Aus dieser emotionalen Basis heraus machen wir uns auf den Weg\, unseren inneren Reichtum zu erforschen. Wir nehmen uns viel Zeit\, unserem weiblichen Zentrum zu begegnen. \nIn Kreis der Frauen werden wir uns gegenseitig den Raum halten\, um in Stille abzutauchen und die eigene Yoni wahrzunehmen. Wir erforschen gemeinsam\, welche Muster\, Erfahrungen und Glaubenssätze uns daran hindern\, unser inneres Feuer zu entfachen. Wir geben unserem Schoß eine Stimme. Unser Körper weiß die Antwort und mit diesem Wissen übernehmen wir selbstbewusst die Verantwortung für unsere Bedürfnisse. Wir lernen mutig unsere Wünsche zu kommunizieren und unsere Lust und Unlust verbal und körperlich auszudrücken. \nIn Bewegung und im Tanz geht es darum\, unseren eigenen Ausdruck zu finden. Wir laden Lust und orgasmisches Erleben ein\, um unseren Fluss der Weiblichkeit (wieder) ins Fließen zu bringen. Hier ist alles willkommen und jede mag ihren individuellen Ausdruck finden\, egal ob laut und ekstatisch oder leise\, verbunden und meditativ. \nWir beschäftigen uns mit der selbstermächtigten und lustvoll aufnehmenden Qualität unserer Yonis. Wie fühlt sich ein Ja zu mir selbst an und wie kann mich Atem und Bewegung dabei unterstützen\, mein Spüren zu intensivieren? Wie kann ich Vertrauen zu mir selbst etablieren\, ohne meine Grenzen aus den Augen zu verlieren? \nWie kann ich meine Schöpferinnenkraft aktivieren\, um mit Kreativität und Lebensfreude Neues in die Welt zu bringen? Wir lernen uns in der Tiefe unseres Schoßraums zu erforschen und unsere Gebärmutter als Quelle der Lebensfreude zu würdigen. \nWir begleiten dich auf dieser Reise mit viel Erfahrung\, Wissen\, Einfühlungsvermögen und unserer Liebe für die Menschen. \nWir freuen uns auf dich! \nNicole Schuttenberg und Madlen Thonhauser \nDieses tantrische Frauenseminar eröffnet dir folgende Möglichkeiten:\n\nDu erlebst ein Gefühl von „genährt sein“\, Solidarität und Geborgenheit in einem kraftvollen Kreis von Frauen\nDu vertiefst deine sinnliche Wahrnehmungsfähigkeit\nDu erweiterst theoretisch und praktisch deine Liebeskompetenz und findest über die Selbstliebe eine tiefere Verbindung zu dir selbst\nDu gewinnst theoretische und praktische Kenntnisse über die sexuelle Funktionsweise deiner Vulva und Vagina\nDu erlebst dich in deiner Sexualität und lernst\, deine Wünsche und Vorstellungen zu benennen.\nDu gewinnst Selbstsicherheit und Selbstvertrauen in deine sexuelle Identität\nDu lernst neue Methoden kennen\, dich selber zu erforschen und andere Menschen auf ihrem Weg zu begleiten\n\nVoraussetzungen für die Teilnahme am Seminar:\nEs ist möglich\, dass du im Laufe des Seminars intensive emotionale Erfahrungen machst. Da wir keine Therapie anbieten\, möchten wir dich bitten\, in Ruhe zu entscheiden\, ob du physisch und psychisch in der Lage bist\, damit umzugehen. \nWir behalten uns vor\, eine Teilnahme vor oder während des Seminars anbieterseitig abzusagen\, wenn wir den Eindruck haben\, dass Umfang oder Intensität des Seminars eine Teilnehmerin überfordert. Bitte lies für weitere \nDetails unsere Teilnahme- und Rücktrittsbedingungen:\nDieses Seminar bereitet auf unsere Tantramassage-Profi-Ausbildung TMV® vor. Bei Interesse ist es möglich nach der Teilnahme dieses Seminars und unserem „Grundseminar in tantrischer Berührungskunst“ an unserem „Intensivseminar zur Yoni- und Lingammassage“ teilzunehmen\, welches die Voraussetzung für unsere Profi-Ausbildung TMV® ist. \nBitte lies auch unsere Teilnahme- und Rücktrittsbedingungen\, sowie unsere Rabatte und Zahlungsmodalitäten. \nNach der verbindlichen Anmeldung erhältst du von uns einen Link\, um deine Unterkunft und Verpflegung direkt im Seminarhaus zu besonderen AnandaWave-Konditionen zu buchen. \nHier findest du Informationen zu: \n\nTantramassage-Profi-Ausbildung TMV®\nGanzheitliches Jahrestraining\n\nSeminarleitung:Nicole Schuttenberg\, Madlen Thonhauser \nalle Termine:\n			        Aug.\n			        25\n			        \n    Schoßraumzeit für Frauen\n                \n                Mittwoch\, 25. August 2027 - Sonntag\, 29. August 2027\n				\nTerminübersicht und AnmeldungKostenlose Info-Veranstaltung zum Frauenseminar:Keine Veranstaltungen zur Zeit
URL:https://anandawave.de/termin/schossraumzeit-fuer-frauen/
LOCATION:Leuther Mühle\, Nettetal\, 41334\, Deutschland
CATEGORIES:Schoßraumzeit für Frauen,Seminare
ATTACH;FMTTYPE=image/jpeg:https://anandawave.de/wp-content/uploads/2022/11/schossraumarbeit-fuer-frauen-scaled.jpg
END:VEVENT
END:VCALENDAR