BEGIN:VCALENDAR
VERSION:2.0
PRODID:-//AnandaWave - ECPv6.15.20//NONSGML v1.0//EN
CALSCALE:GREGORIAN
METHOD:PUBLISH
X-ORIGINAL-URL:https://anandawave.de
X-WR-CALDESC:Veranstaltungen für AnandaWave
REFRESH-INTERVAL;VALUE=DURATION:PT1H
X-Robots-Tag:noindex
X-PUBLISHED-TTL:PT1H
BEGIN:VTIMEZONE
TZID:Europe/Berlin
BEGIN:DAYLIGHT
TZOFFSETFROM:+0100
TZOFFSETTO:+0200
TZNAME:CEST
DTSTART:20260329T010000
END:DAYLIGHT
BEGIN:STANDARD
TZOFFSETFROM:+0200
TZOFFSETTO:+0100
TZNAME:CET
DTSTART:20261025T010000
END:STANDARD
BEGIN:DAYLIGHT
TZOFFSETFROM:+0100
TZOFFSETTO:+0200
TZNAME:CEST
DTSTART:20270328T010000
END:DAYLIGHT
BEGIN:STANDARD
TZOFFSETFROM:+0200
TZOFFSETTO:+0100
TZNAME:CET
DTSTART:20271031T010000
END:STANDARD
BEGIN:DAYLIGHT
TZOFFSETFROM:+0100
TZOFFSETTO:+0200
TZNAME:CEST
DTSTART:20280326T010000
END:DAYLIGHT
BEGIN:STANDARD
TZOFFSETFROM:+0200
TZOFFSETTO:+0100
TZNAME:CET
DTSTART:20281029T010000
END:STANDARD
END:VTIMEZONE
BEGIN:VEVENT
DTSTART;TZID=Europe/Berlin:20270630T150000
DTEND;TZID=Europe/Berlin:20270704T150000
DTSTAMP:20260423T044829
CREATED:20260116T144843Z
LAST-MODIFIED:20260119T180348Z
UID:10668-1814367600-1814713200@anandawave.de
SUMMARY:Die anale Versuchung
DESCRIPTION:nächster Termin:\n			        Okt.\n			        21\n			        \n    Die anale Versuchung\n                \n                21. Oktober - 25. Oktober\n				\n45€ (zzgl. U+V) \nTerminübersicht und AnmeldungTantramassage-Seminar für FortgeschritteneUnser Beckenboden ist eine Quelle der Lust und sexuellen Empfindungen. Im Alltag betrachten wir ihn eher als peinliche Schmutzzone oder allenfalls als Ansammlung notwendiger Körperöffnungen. Negative Erfahrungen aus der frühen Kindheit und unsere innere Haltung äußern sich im Laufe der Jahre oft in einer unbewussten muskulären Dauerspannung des Beckenbodens. Unser körperliches Wohlbefinden und unsere Fähigkeit\, sexuelle Lust zu empfinden\, hängen jedoch davon ab\, dass wir den gesamten Beckenboden einschließlich der Yoni oder des Lingams sowie den Anus bewusst spüren und entspannen können. \nDen Beckenboden achtsam erforschen \nWir werden an diesem verlängerten Wochenende unseren Beckenboden achtsam erforschen\, lernen die heilsame Wirkung der Massage kennen und nehmen alle Emotionen wahr\, die diese aufregende Reise in unseren Körper auslöst. \nDiese Veranstaltung richtet sich an zwei Teilnehmer:innenkreise: \n\nTeilnehmende\, die bereits die Yoni- und Lingam-Massage in Seminaren kennengelernt und eingeübt haben\, und sich\, beispielsweise im Rahmen des Berührungstrainings\, weiterbilden wollen\nAngehende Profis der AnandaWave-Profi-Ausbildung TMV®\n\nDas Seminar ist im Rahmen der Tantramassage-Profi-Ausbildung TMV® eingestuft als Level 1\, Modul 3. Es sind jedoch auch alle Menschen ohne berufliche Ambitionen eingeladen an diesem Seminar teilzunehmen. \nFolgende Tantramassage Inhalte werden vermittelt: \n\nDemonstration der Beckenbodenmassage\nErlernen der Beckenbodenmassage\nAnatomisches\, funktionales und energetisches Fachwissen zur männlichen und weiblichen Prostata sowie zum Analbereich\nAuseinandersetzung mit der persönlichen Haltung zu den Themen Kontrolle und Loslassen\, Bewusstheit und Flexibilität\, Akzeptanz und Lust\nDemonstration der Anal- und Prostatamassage\nIntensives üben der Anal- und Prostatamassage\n\nBitte lese  auch unsere Teilnahme- und Rücktrittsbedingungen\, sowie unsere Rabatte und Zahlungsmodalitäten. \nIm Preis enthalten: Alle Teilnehmenden bekommen ausführliches schriftliches Material zu den Seminarinhalten ausgehändigt. Nach deiner verbindlichen Anmeldung erhältst du von uns einen Link\, um deine Unterkunft und Verpflegung direkt im Seminarhaus zu besonderen AnandaWave-Konditionen zu buchen.\nHier findest du Informationen zu: \n\nTantramassage-Profi-Ausbildung TMV®\nGanzheitliches Jahrestraining\n\nSeminarleitung:Nicole Schuttenberg\, Christoph Kraus \nalle Termine:\n			        Okt.\n			        21\n			        \n    Die anale Versuchung\n                \n                21. Oktober - 25. Oktober\n				\n			        Feb.\n			        24\n			        \n    Die anale Versuchung\n                \n                Mittwoch\, 24. Februar 2027 - Sonntag\, 28. Februar 2027\n				\n			        Juni\n			        30\n			        \n    Die anale Versuchung\n                \n                Mittwoch\, 30. Juni 2027 - Sonntag\, 4. Juli 2027\n				\nTerminübersicht und Anmeldung
URL:https://anandawave.de/termin/die-anale-versuchung-3/
LOCATION:Leuther Mühle\, Nettetal\, 41334\, Deutschland
CATEGORIES:Die anale Versuchung,Seminare,Tantrisches Berührungstraining
ATTACH;FMTTYPE=image/jpeg:https://anandawave.de/wp-content/uploads/2021/06/anale-versuchung-scaled.jpg
END:VEVENT
BEGIN:VEVENT
DTSTART;TZID=Europe/Berlin:20270722T180000
DTEND;TZID=Europe/Berlin:20270725T150000
DTSTAMP:20260423T044829
CREATED:20260116T145527Z
LAST-MODIFIED:20260119T180246Z
UID:10676-1816279200-1816527600@anandawave.de
SUMMARY:Touch – Dance – and Celebrate
DESCRIPTION:nächster Termin:\n			        Juli\n			        22\n			        \n    Touch – Dance – and Celebrate\n                \n                Donnerstag\, 22. Juli 2027 - Sonntag\, 25. Juli 2027\n				\n45€ (zzgl. U+V) \nTerminübersicht und AnmeldungTouch – Dance – and Celebrate\nFeier dich selbst und das Leben Tantramassage-Seminar für Anfänger:innen und Fortgeschrittene\, persönlich interessierte und beruflich ambitionierte Teilnehmende.\nOffen für Einzelpersonen und Paare\, Frauen\, Männer und diverse Personen. \nBewusstsein für die eigenen Bedürfnisse entwickeln\nIn der heutigen schnelllebigen Zeit geraten wir durch die an uns gestellten Anforderungen oft unerwartet schnell in einen Zustand wachsender Spannungen. Dabei neigen wir häufig dazu\, das Wesentliche aus den Augen zu verlieren: das Innehalten und das bewusste Wahrnehmen dessen\, von dem was IST! \nUns allen ist der innerliche Kampf – das Streben hin zum Erwünschten und weg vom Unerwünschten – vertraut. \nDer persönliche Optimierungswahn ist ein weit verbreitetes Phänomen in einer Gesellschaft\, die ständig mit dem Streben nach Perfektion\, Effizienz und Selbstverbesserung konfrontiert. In vielen Lebensbereichen\, sei es im Beruf\, im Fitnessbereich oder im sozialen Leben\, gibt es einen Druck\, immer das Beste aus sich herauszuholen. Dies kann zu einem Gefühl der Unzulänglichkeit führen\, wenn man den Eindruck hat\, die eigenen und/oder fremden Erwartungen nicht erfüllen zu können. Um dem entgegenzuwirken\, ist es entscheidend\, sich zunächst selbst mit allen Facetten wahrzunehmen und das anzuerkennen\, was IST. \nLiebe sagt nicht sei anders. Liebe sagt „SEI“!\nIn diesem Seminar möchten wir ein Bewusstsein dafür wecken\, dass unsere inneren Themen erst einmal einen liebevollen Landeplatz brauchen. Innere Heilung geschieht nicht durch das Streben danach\, dass etwas weggeht\, sondern indem etwas hinzukommt: Liebe in ihrer Essenz\, ganz schlicht und pur! \nFolge dem\, was dich bereits ausmacht\nDeshalb laden wir dich ein\, innezuhalten und  sowohl deine geliebten als auch ungeliebten Anteile in dir kennenzulernen und anzunehmen. Daraus kann die in dir wohnende Freude erwachsen\, dem zu folgen\, was dich bereits ausmacht\, und nicht erst etwas zu werden\, von dem du denkst\, es sein zu müssen. \nMagie des Tanzes\nIndem du diese Begegnungskompetenz mit dir selbst entwickelst\, möchten wir dich in Räume für mehr Inspiration und Freude führen. \nIn der Magie des Tanzes liegt eine besondere Kraft: die Kraft\, dich zu befreien\, dich anzuerkennen und dir selbst sowie dem Leben mit offenen Armen zu begegnen. \nDas Tanzen ist dabei nicht nur eine Bewegung\, es ist ein Ausdruck deiner Seele! Jeder Schritt\, jede Drehung\, jede im Takt geschlagene Note lädt dich schließlich dazu ein\, dich selbst zu feiern und dir zu verraten\, wohin dich der nächste Impuls tragen möchte. \nDie Essenz der Tantramassage: Verehrung\nIn diesem Seminar spielt auch die Essenz der Tantramassage – die Verehrung – eine ganz zentrale Rolle. \nDie Verehrung des eigenen Seins ist ein tiefgründiger und bedeutungsvoller Akt. Es handelt sich um die Anerkennung und Wertschätzung unserer einzigartigen Identität. Wichtig ist\, dass wir uns bewusst machen\, wie wertvoll und kostbar unser individuelles Dasein ist. \nVerehrung bedeutet auch\, mit Selbstliebe und Mitgefühl auf uns selbst zu blicken. Jeder Mensch hat seine eigenen Herausforderungen und Kämpfe\, und es ist wichtig\, sich daran zu erinnern\, dass wir trotz und mit diesen Schwierigkeiten wertvoll sind. \nDu bist Du\, du bist hier\, du bist lebendig\, und jede Bewegung\, ob auf der Tanzfläche oder in der Berührung ist ein Geschenk. \nFolgende Inhalte zum Seminar und zur Tantramassage werden vermittelt: \n\nVerehrung als Berührung für mehr Selbstliebe und Mitgefühl. Es wird Massageelemente (ohne Yoni- und Lingam-Massge) geben\, die vor allem den Aspekt der Verehrung\, der Geborgenheit und des Ankommens in den Vordergrund stellen.\nMeditation „Erlaubnis aussprechen“: Jede Zelle in dir ist eingeladen zu verstehen\, dass alles genau richtig ist\, so wie es jetzt gerade ist. Komme an\, erlaube dir ganz Du zu sein und fühle wie du getragen wirst vom „Großen Ganzen“.\nBewegungs-Phantasiereise: Während einer bewegten Trance erlaube dir einen Blick in dein Zuhause\, zu deiner Lebensaufgabe\, zu deiner Liebe zu dir und zu anderen Menschen und einer Reise zu deinem Selbst.\nInnen-Außenkreis: Nutze diesen Kreis\, um Klarheit über deine persönlichen Ressourcen zu gewinnen\, um damit neue Perspektiven für dein Leben zu gewinnen.\nMediation von Ich und Selbst: Dein ICH mit den Qualitäten von Trotz\, Willen und Fokus und dein SEIN mit den Qualitäten von Akzeptanz\, Liebe und Weisheit\, stehen sich gegenüber: Freut euch auf eine sehr erhellende und heilsame Reise!\nRessourcenmarkt: Du bist eingeladen hinabzutauchen in den tiefen See deiner Vergangenheit\, um all die Schätze zu heben\, die dort schlummern und darauf warten von dir in dein Leben getragen zu werden.\nTrance Dance: Hier kombinieren wir Tanz\, Musik und meditative Zustände um ein tiefes Gefühl der Verbindung zu dir selbst und zur Umgebung zu fördern. Emotionale Blockaden und Stress können abgebaut und die Intuition gestärkt werden.\nTanz deines Lebens: Tanze und lausche\, um das Schöne\, Gute und Wahre in dir zu erleben\, indem du dein individuelles Inneres (Gedanken\, Gefühle\, Empfindungen) und dein individuelles Äußeres (Verhalten\, Bewegung\, Haltung) erforschst\, sowie dich selbst eingebunden in ein Wir erfährst.\n\nDas Seminar ist im Rahmen der Tantramassage-Profi-Ausbildung TMV® eingestuft als Level 3\, Modul 1. Es sind jedoch auch alle Menschen ohne berufliche Ambitionen eingeladen an diesem Seminar teilzunehmen. \nBitte lese auch unsere Teilnahme- und Rücktrittsbedingungen\, sowie unsere Rabatte und Zahlungsmodalitäten. \nNach deiner verbindlichen Anmeldung erhältst du von uns einen Link\, um deine Unterkunft und Verpflegung direkt im Seminarhaus zu besonderen AnandaWave-Konditionen zu buchen.\nHier findest du Informationen zu: \n\nTantramassage-Profi-Ausbildung TMV®\nGanzheitliches Jahrestraining\n\nSeminarleitung:Michaela Riedl & Team \nalle Termine:\n			        Juli\n			        22\n			        \n    Touch – Dance – and Celebrate\n                \n                Donnerstag\, 22. Juli 2027 - Sonntag\, 25. Juli 2027\n				\nTerminübersicht und Anmeldung
URL:https://anandawave.de/termin/touch-dance-and-celebrate-3/
LOCATION:Leuther Mühle\, Nettetal\, 41334\, Deutschland
CATEGORIES:Seminare,Touch – Dance – and Celebrate
ATTACH;FMTTYPE=image/jpeg:https://anandawave.de/wp-content/uploads/2024/12/touch-dance-big2.jpg
END:VEVENT
BEGIN:VEVENT
DTSTART;TZID=Europe/Berlin:20270729T150000
DTEND;TZID=Europe/Berlin:20270801T150000
DTSTAMP:20260423T044830
CREATED:20221209T190948Z
LAST-MODIFIED:20260119T180301Z
UID:4431-1816873200-1817132400@anandawave.de
SUMMARY:Berührung als Berufung
DESCRIPTION:nächster Termin:\n			        Aug.\n			        13\n			        \n    Berührung als Berufung\n                \n                13. August - 16. August\n				\n45€ (zzgl. U+V) \nTerminübersicht und AnmeldungTantramassage-ProfessionalisierungsmodulDer Beruf Tantramasseur:in TMV® gehört wohl zu den aufregendsten und interessantesten Berufen in der Körperarbeit und er eröffnet die Möglichkeit Menschen nah\, unmittelbar und im konkreten sowie übergeordneten Sinne „nackt“ zu begegnen. \nMenschen\, die sich zu diesem Beruf hingezogen fühlen\, folgen oft einer Berufung\, die aus einer Leidenschaft und Liebe zu den Menschen geboren wird und das Ziel der Verehrung von allem Lebendigen in sich trägt. \nDa wir als Tantramasseur:innen TMV® wissend\, bewusst und konkret mit den sehr spirituellen und machtvollen Kräften der Sexualität in der Massage umgehen können müssen\, lässt uns diese Körperarbeit wie keine andere vergleichbare Tätigkeit wachsen und dadurch unsere Selbstwirksamkeit entfalten. \nDa unser ganzes Wesen\, unser ganzes Sein bei dieser Arbeit angesprochen und herausgefordert ist\, sobald wir in diese Form der tantrischen Körperarbeit eintauchen\, ist es wesentlich\, dass wir uns auch mit den oftmals großen Herausforderungen auseinandersetzen\, welche uns während der Arbeit als Tantramasseur:innen begegnen können. \nSich diesen Herausforderungen zu stellen und sich fortwährend weiterzuentwickeln ist eine Voraussetzung\, um lange Zeit Freude an dieser erfüllenden Arbeit zu haben und selbstbewusst\, emotional offen und klar sowie inspiriert und in guter körperlicher wie seelischer Verfassung Tantramassagen geben zu können. \nGestaltung einer professionellen Tantramassage TMV®\nEs ist hierbei sowohl notwendig und hilfreich\, dass wir lernen\, mit uns selbst achtsam umzugehen und Möglichkeiten sowie Hilfen der Selbstregulation kompetent beherrschen\, als auch einen flexiblen Umgang mit eigenen und fremden Grenzen als wesentlichen Schlüssel für die Gestaltung einer professionellen Tantramassage zu erkennen. \nIn dieser eigenen Auseinandersetzung begegnen uns oftmals alte Emotionen\, Verhaltensweisen und Glaubenssätze\, die unser Verhalten\, Fühlen und Denken im „Hier und Jetzt“ beeinflussen. \nIm Seminar vermitteln wir\, wie man sowohl damit umzugehen lernt eigenen Anteilen der Vergangenheit professionell zu begegnen\, als auch einen kompetenten Umgang damit zu erlangen\, wenn bei Menschen in der Massage Gefühle und Emotionen „hochkommen“. Auch der Blick auf das Erkennen von Traumata wird einen wesentlichen Bestandteil des Seminars ausmachen. \nUmgang mit Atmung und Trauma in der Tantramassage\nHierzu gehört ein Wissen um die Funktion und Prägung unseres Nervensystems\, sowie Selbst- und Fremdregulationstechniken\, bei der unter anderem der bewusste Zugang zur eigenen Atmung ein wesentliches Tool darstellt. \nAußerdem vermitteln wir anschaulich wie Trauma entsteht\, welche Ausdrucksformen es gibt und wie all das zusammenhängt. \nDa in einer professionellen Tantramassage nicht nur körperliche\, sondern auch seelische Nähe entsteht\, sind wir über die oben genannten Aspekte hinaus\, immer wieder damit konfrontiert für uns selbst zu klären\, welchen Stellenwert Nähe\, Sinnlichkeit und Sexualität in unserem Leben haben. Wie erfüllend erleben wir diese und wie geborgen und sicher fühlen wir uns selbst in Beziehungen\, mit Familie\, Freunden und Partner:innenschaft. \nMit diesem theoretischen\, praktischen und selbstreflexiven Wissen kann die Tantramassage TMV® zu einer traumasensiblen Körperarbeit werden. \nAn wen richtet sich dieser Tantramassage-Professionalisierungsmodul?\nDiese Veranstaltung richtet sich an zwei Teilnehmer:innenkreise: \n\nAngehende Profis der AnandaWave-Profi-Ausbildung TMV® (Pflichtmodul).\nFrauen\, Männer und diverse Personen\, die bereits ein Tantramassage-Ritual sowie die Yoni- und Lingam-Massage in Seminaren (bei AnandaWave® oder auch in anderen Tantramassage-Instituten) kennengelernt und eingeübt haben\, und sich weiterbilden wollen.\n\nVoraussetzung für dieses Tantramassage-Professionalisierungsmodul ist es\, mindestens vier\, am besten sechs protokollierte Massagen (jeweils zur Hälfte Frauen und Männer oder diverse Personen) zu absolvieren und diese als PDF mindestens 10 Tage vor Seminarbeginn einzureichen. \nProtokollfragen erhältst du auf Anfrage. \nTantramassage-Professionalisierungsmodul: Inhalte\n\nEigene Werte und Einstellung zur Tantramassage – Wie integriere ich die Tantramassage in mein Leben?\nSelbstmanagement – Eigener Umgang mit der Tantramassage: Wie bringe ich mich vor\, während und nach der Massage in einen guten körperlichen und emotionalen Zustand?\nWie nutze ich meine Atmung\, mein Körpererleben und mein Bewusstsein zur Gestaltung einer Tantramassage?\nKlärung\, Reflexion und Integration der in den Protokollen Massagen aufkommenden Fragen oder Themen.\nUmgang mit Traumata in der Körperarbeit und Wissen über die Mechanismen unseres Nervensystems (u.a. Polyvagal-Theorie)\n\nPraxisbezogene Inhalte zur Tantramassage\n\nVorgespräche\nTelefontraining\nDen Klienten gegenübertreten\nGrenzen kommunizieren – Grenzen achten – Grenzen öffnen\nSelbst-Regulation des Nervensystems und praktische Tools für den Umgang mit Trauma in der Körperarbeit\nUmgang mit sexuellen Störungen\nInformationen über sexuell übertragbare Infektionen und ihre Prävention im Bereich der tantrischen Körperarbeit\n\nDas Seminar ist im Rahmen der Tantramassage-Profi-Ausbildung TMV® eingestuft als Level 1\, Modul 5. \nBitte lese auch unsere Teilnahme- und Rücktrittsbedingungen\, sowie unsere Rabatte und Zahlungsmodalitäten. \nIm Preis enthalten: Alle Teilnehmenden bekommen ausführliches schriftliches Material zu den Seminarinhalten ausgehändigt. Nach deiner verbindlichen Anmeldung erhältst du von uns einen Link\, um deine Unterkunft und Verpflegung direkt im Seminarhaus zu besonderen AnandaWave-Konditionen zu buchen. \nHier findest du Informationen zu: \n\nTantramassage-Profi-Ausbildung TMV®\nGanzheitliches Jahrestraining\n\nSeminarleitung:Alma Katrin Wagener und Madlen Thonhauser \nalle Termine:\n			        Aug.\n			        13\n			        \n    Berührung als Berufung\n                \n                13. August - 16. August\n				\n			        Juli\n			        29\n			        \n    Berührung als Berufung\n                \n                Donnerstag\, 29. Juli 2027 - Sonntag\, 1. August 2027\n				\nTerminübersicht und Anmeldung
URL:https://anandawave.de/termin/beruehrung-als-berufung/
LOCATION:Leuther Mühle\, Nettetal\, 41334\, Deutschland
CATEGORIES:Berührung als Berufung,Seminare
ATTACH;FMTTYPE=image/jpeg:https://anandawave.de/wp-content/uploads/2021/06/beruehrung-als-berufung-scaled.jpg
END:VEVENT
BEGIN:VEVENT
DTSTART;TZID=Europe/Berlin:20270729T180000
DTEND;TZID=Europe/Berlin:20270801T150000
DTSTAMP:20260423T044830
CREATED:20250401T114511Z
LAST-MODIFIED:20260120T120718Z
UID:9163-1816884000-1817132400@anandawave.de
SUMMARY:Die Essenz des Lebens: Dem Tod begegnen!
DESCRIPTION:nächster Termin:\n			        Aug.\n			        20\n			        \n    Die Essenz des Lebens: Dem Tod begegnen!\n                \n                20. August - 23. August\n				\n45€ (zzgl. U+V) \nTerminübersicht und AnmeldungEine tantrische Reise in deine LebendigkeitTantramassage-Seminar für Menschen mit Vorerfahrung\nFür persönlich interessierte und beruflich ambitionierte Teilnehmende\, nach einem Tantramassage Grundseminar (auch in anderen Instituten).\nOffen für Einzelpersonen und Paare\, Frauen\, Männer und diverse Personen. \nDen Tod annehmen\, um das Leben zu begreifen\nHast du jemals darüber nachgedacht\, warum die Angst vor dem Tod so tief in uns verwurzelt ist? \nHäufig liegt es daran\, dass wir nicht gelernt haben\, das Leben in all seinen Facetten zu genießen\, oder wir fürchten uns davor\, ein Dasein zu führen\, dessen Potential wir nicht vollständig auskosten. \nWenn wir den Mut finden\, uns bewusst mit unserer Sterblichkeit auseinanderzusetzen\, hören wir auf\, zu warten und zu hoffen. Stattdessen beginnen wir\, jeden kostbaren Moment zu nutzen\, um unsere Träume zu verwirklichen und unser Leben sinnerfüllt zu gestalten. Die tiefgreifende Erkenntnis lautet: Wer den Tod annimmt\, begreift das Leben in seiner ganzen Tiefe. \nDie Endlichkeit umarmen\nEs gibt viele Themen\, die wir in unserem Dasein gerne meiden\, doch keines ist so bedeutungsvoll wie der Tod – der Schlüssel zu einem bewussten und erfüllten Leben. Menschen\, die das Wesen des Lebens wirklich verstehen\, sehen den Tod nicht als Feind\, sondern als einen willkommenen Begleiter\, der Teil unseres Lebens ist. Sie umarmen die Endlichkeit und schätzen jeden einzelnen Moment\, als wäre er ein kostbares Geschenk. Indem wir die Vergänglichkeit akzeptieren\, öffnen wir uns für die wahre Schönheit des Lebens und die unermessliche Tiefe der menschlichen Erfahrung. \nDie Tantramassage als Akt der liebevollen Berührung – und letzte tantrische Ölung\nIn der Stille des Augenblicks\, wo das Leben auf den Tod trifft\, finden wir eine tiefe\, unaussprechliche Wahrheit. \nIn der letzten Ölung\, die wir in Form einer besonderen Tantramassage auf diesem Seminar erleben werden\, begegnen wir dem Mysterium des Todes mit Sanftmut und Hingabe. Dieses Ritual ist ein Akt der Liebe\, ein Abschied voller Würde und Respekt. Es ist ein Moment\, in dem wir die Seele segnen und uns dem Loslassen hingeben\, wissend\, dass der Tod nicht das Ende\, sondern ein Übergang in eine andere Form des Seins ist. \nDie Schönheit des Lebens durch die Akzeptanz des Todes erkennen\nDer Tod lehrt uns\, das Leben in seiner ganzen Tiefe zu schätzen. Er erinnert uns daran\, dass jeder Atemzug\, jedes Lächeln und jede Träne Teil eines größeren Ganzen sind. Indem wir die Endlichkeit akzeptieren\, öffnen wir unser Herz für die unendliche Liebe\, die uns umgibt und durchdringt. \nWir laden dich ein\, dich den wahren und bedeutenden Fragen des Lebens zu stellen. Hast du den Mut\, deiner Sterblichkeit zu begegnen? Wirst du die Gelegenheit nutzen\, um zu lernen\, wie du lebendiger und authentischer leben kannst? \nWas erwartet dich auf diesem tiefgreifenden Tantraseminar? \n\nDu wirst dich mit einem der größten Tabus unserer Zeit\, dem Tod\, auseinandersetzen und lernen\, dich auf deinen eigenen Übergang vorzubereiten. Diese Auseinandersetzung öffnet dir die Tür zu einem tieferen Verständnis des Lebens selbst.\nDurch rituelle Prozesse und kreative Methoden wirst du die Fesseln deiner Vergangenheit erkunden und Raum schaffen für neue und erfrischende Möglichkeiten\, die dein Leben bereichern können.\nDu wirst die Essenz deines Lebens erkunden: Was ist dir wirklich wichtig? Welche Erfahrungen müssen noch Teil deines Lebens werden\, um ein Gefühl der Vollständigkeit zu erreichen?\nDu bekommst die Möglichkeit deine Beziehungen zu klären.\nZusätzlich erlebst du eine tiefgehende Tantramassage (ohne Yoni- und Lingam-Massage)\, die wie eine letzte Ölung wirken und dir einen Raum für innere Heilung und Erneuerung eröffnen kann.\nDu wirst entdecken\, wie du dein Leben voll und ganz aus dem Herzen leben und dabei eine neue Dimension der inneren Freiheit und Erfüllung erreichen kannst.\n\nDas Seminar ist im Rahmen der Tantramassage Profi-Ausbildung TMV® eingestuft als Level 3\, Modul 4. Es sind jedoch auch alle Menschen ohne berufliche Ambitionen eingeladen an diesem Seminar teilzunehmen. \nBitte lese auch unsere Teilnahme- und Rücktrittsbedingungen\, sowie unsere Rabatte und Zahlungsmodalitäten. \nNach deiner verbindlichen Anmeldung erhältst du von uns einen Link\, um deine Unterkunft und Verpflegung direkt im Seminarhaus zu besonderen AnandaWave-Konditionen zu buchen. \nHier findest du Informationen zu: \nTantramassage-Profi-Ausbildung TMV®\nGanzheitliches Jahrestraining \nSeminarleitung:Michaela Riedl und Team \nalle Termine:\n			        Aug.\n			        20\n			        \n    Die Essenz des Lebens: Dem Tod begegnen!\n                \n                20. August - 23. August\n				\n			        Juli\n			        29\n			        \n    Die Essenz des Lebens: Dem Tod begegnen!\n                \n                Donnerstag\, 29. Juli 2027 - Sonntag\, 1. August 2027\n				\nTerminübersicht und Anmeldung
URL:https://anandawave.de/termin/die-essenz-des-lebens-dem-tod-begegnen/
LOCATION:Leuther Mühle\, Nettetal\, 41334\, Deutschland
CATEGORIES:Die Essenz des Lebens,Seminare
ATTACH;FMTTYPE=image/jpeg:https://anandawave.de/wp-content/uploads/2025/03/die-essenz-des-lebens-small.jpg
END:VEVENT
END:VCALENDAR