BEGIN:VCALENDAR
VERSION:2.0
PRODID:-//AnandaWave - ECPv6.15.20//NONSGML v1.0//EN
CALSCALE:GREGORIAN
METHOD:PUBLISH
X-ORIGINAL-URL:https://anandawave.de
X-WR-CALDESC:Veranstaltungen für AnandaWave
REFRESH-INTERVAL;VALUE=DURATION:PT1H
X-Robots-Tag:noindex
X-PUBLISHED-TTL:PT1H
BEGIN:VTIMEZONE
TZID:Europe/Berlin
BEGIN:DAYLIGHT
TZOFFSETFROM:+0100
TZOFFSETTO:+0200
TZNAME:CEST
DTSTART:20260329T010000
END:DAYLIGHT
BEGIN:STANDARD
TZOFFSETFROM:+0200
TZOFFSETTO:+0100
TZNAME:CET
DTSTART:20261025T010000
END:STANDARD
BEGIN:DAYLIGHT
TZOFFSETFROM:+0100
TZOFFSETTO:+0200
TZNAME:CEST
DTSTART:20270328T010000
END:DAYLIGHT
BEGIN:STANDARD
TZOFFSETFROM:+0200
TZOFFSETTO:+0100
TZNAME:CET
DTSTART:20271031T010000
END:STANDARD
BEGIN:DAYLIGHT
TZOFFSETFROM:+0100
TZOFFSETTO:+0200
TZNAME:CEST
DTSTART:20280326T010000
END:DAYLIGHT
BEGIN:STANDARD
TZOFFSETFROM:+0200
TZOFFSETTO:+0100
TZNAME:CET
DTSTART:20281029T010000
END:STANDARD
END:VTIMEZONE
BEGIN:VEVENT
DTSTART;TZID=Europe/Berlin:20270902T150000
DTEND;TZID=Europe/Berlin:20270905T150000
DTSTAMP:20260423T073920
CREATED:20241114T132904Z
LAST-MODIFIED:20260311T112649Z
UID:7851-1819897200-1820156400@anandawave.de
SUMMARY:Wer bist du wenn es dunkel ist
DESCRIPTION:nächster Termin:\n			        Sep.\n			        02\n			        \n    Wer bist du wenn es dunkel ist\n                \n                Donnerstag\, 2. September 2027 - Sonntag\, 5. September 2027\n				\n45€ (zzgl. U+V) \nTerminübersicht und AnmeldungWer bist du\, wenn es dunkel ist?Ein „Blind-Date“ mit deiner Intuition \nWer bin ich\, ohne gesehen zu werden? Was bleibt von mir\, wenn ich auf mich selber zurückgeworfen bin? Ohne Titel\, ohne Schminke\, ohne mein sicheres Selbstbild? \nIn diesem Seminar laden wir dich ein\, hinter deine eigene Maske zu schauen – und deiner Essenz\, deinem Herzen\, deiner Intuition zu folgen. Wir laden dich ein auf ein „BlindDate“ mit dir selber. \nWas daran für dich spannend & herausfordernd sein kann? \nDu könntest… \n\nDeinem Schatten begegnen\nDich intensiver spüren\nDich in dich selber verlieben\nDein „Selbstbild“ unterwegs verlieren und eine neue Perspektive gewinnen\neine neue Perspektive gewinnen\nvon anderen aus dem Herzen erkannt werden\nDein Licht im Dunklen scheinen lassen\nDeine Sinnlichkeit (neu) entdecken\n\nUnser Alltag ist geprägt von Äußerlichkeiten und Oberflächlichkeit. Wir bewerten andere und uns selber (!) aufgrund von Status\, Kleidung\, Erscheinungsbild. In der Purheit und Intimität einer AnandaWave-Tantramassage können wir einen oft stillen\, schweigsamen Teil von uns kennenlernen\, der im Alltag oft ungehört bleibt: was sagt mein Lauschen\, mein Tastsinn\, mein Geruchssinn\, mein Empfinden\, mein Gefühl? \nIn diesem Seminar möchten wir dich einladen\, deinen Sehsinn weitestgehend auszusparen (Augenmaske unbedingt erforderlich!)\, um all deine anderen Sinne zu schärfen und in dich hinein zu lauschen und dich so besser verstehen zu lernen. All die leiseren Informationen auf zu nehmen – und damit deiner Intuition folgen zu lernen. \nEs werden folgende Inhalte vermittelt: \n\nSinneswahrnehmung & Sinnlichkeit\nMein Selbstbild – „Was glaubst du eigentlich\, wer du bist?“\nIntuition & Kontakt – Wer bin ich und wer will ich sein?\nIntuitive Berührung & Authentizität in der AnandaWave-Tantramassage\n\nDas Seminar ist im Rahmen der Tantramassage-Profi-Ausbildung TMV® eingestuft als Level 3\, Modul 3 und findet in einer Gruppe mit erfahrenen Teilnehmenden statt (Teilnahme am AnandaWave-Grundseminar oder vergleichbaren Seminaren in anderen Instituten). Es sind alle Menschen auch ohne berufliche Ambitionen eingeladen an diesem Seminar teilzunehmen. \nBitte lese auch unsere Teilnahme- und Rücktrittsbedingungen\, sowie unsere Rabatte und Zahlungsmodalitäten. \nNach deiner verbindlichen Anmeldung erhältst du von uns einen Link\, um deine Unterkunft und Verpflegung direkt im Seminarhaus zu besonderen AnandaWave-Konditionen zu buchen. \nHier findest du Informationen zu: \n\nTantramassage-Profi-Ausbildung TMV®\nGanzheitliches Jahrestraining\n\nSeminarleitung:Elisabetta Partenopeo\, Alma Katrin Wagener \nalle Termine:\n			        Sep.\n			        02\n			        \n    Wer bist du wenn es dunkel ist\n                \n                Donnerstag\, 2. September 2027 - Sonntag\, 5. September 2027\n				\nTerminübersicht und Anmeldung
URL:https://anandawave.de/termin/wer-bist-du-wenn-es-dunkel-ist/
LOCATION:Leuther Mühle\, Nettetal\, 41334\, Deutschland
CATEGORIES:Seminare,Wer bist du wenn es dunkel ist
ATTACH;FMTTYPE=image/jpeg:https://anandawave.de/wp-content/uploads/2024/11/wer-bist-du-wenn-es-dunkel-wird-big2.jpg
END:VEVENT
BEGIN:VEVENT
DTSTART;TZID=Europe/Berlin:20270910T150000
DTEND;TZID=Europe/Berlin:20270912T150000
DTSTAMP:20260423T073920
CREATED:20260116T160401Z
LAST-MODIFIED:20260119T175933Z
UID:10755-1820588400-1820761200@anandawave.de
SUMMARY:Die Essenz der AnandaWave®-Massagetechnik
DESCRIPTION:nächster Termin:\n			        Aug.\n			        21\n			        \n    Die Essenz der AnandaWave®-Massagetechnik\n                \n                21. August - 23. August\n				\n45€ (zzgl. U+V) \nzur AnmeldungFlow und Bewegung: Tipps\, Tricks und Skills in der TantramassageDie Essenz der AnandaWave®-Massage\nTantramassage-Seminar für alle nach einem Grundseminar \nIn diesem Seminar werden die wesentlichen Elemente und Prinzipien der AnandaWave®-Tantramassage vermittelt. Es richtet sich an alle\, die bereits Erfahrung mit AnandaWave® haben und ihre Massagefertigkeiten auffrischen oder vertiefen möchten. Gleichzeitig heißt es Massierende aus anderen Tantramassage-Schulen willkommen\, die den AnandaWave®-Stil gern in komprimierter Form kennenlernen möchten. \nWas erwartet dich?\nIn diesem Seminar erfährst du alles\, was du über die Essenz der AnandaWave®-Massage wissen musst. Du lernst die grundlegenden Elemente und Bewegungen kennen\, die den Fluss und die Tiefe dieser Massage ausmachen. Wir gehen gemeinsam durch alle wichtigen Techniken und erklären dir\, wie du die energetische Wirkung der AnandaWave®-Methode in deine Massagen integrierst. Dabei erfährst du\, wie Entspannung\, Tiefe und Sinnlichkeit entstehen und sich kraftvoll entfalten. \nIn Live-Demos zeigen wir dir\, wie die einzelnen Elemente in der Praxis wirken. Du wirst die Möglichkeit haben\, diese direkt an den Lagern mit unserer Unterstützung nachzumassieren – so kannst du das Gelernte sofort anwenden und vertiefen. \nBesonderes Highlight: Wir integrieren die berühmte Bewegungssequenz aus Michaela Riedls „Der Tantramassagefilm“ und zeigen dir Schritt für Schritt\, wie du sie sicher umsetzen und in deine Massage einbinden kannst. \nFür wen eignet sich dieses Seminar?\n\nBist du bereits mit dem AnandaWave®-Stil vertraut und möchtest deine Technik weiter verfeinern?\nIn diesem Fall werden alle Bewegungssequenzen der AnandaWave®-Massage sowie die grundlegenden Prinzipien dieses einzigartigen Massagestils wiederholt. Der Schwerpunkt liegt auf dem harmonischen Fluss in der Massage und den Bewegungen. Wir unterstützen dich dabei\, die für dich passende Technik zu finden\, die eine tiefgehende Berührung ermöglicht und zur Hingabe einlädt. Zudem bieten wir wertvolle Tipps für weniger flexible Massierende und Empfangende\, um dennoch eine fließende Massage zu geben. Sobald die Technik sitzt\, wirst du eine neue Gelassenheit und Tiefe in deiner Massage erreichen\, die spürbar für beide Seiten ist.\nDu hast die Tantramassage bei einem anderen Anbieter erlernt?\nDann bietet dieses Seminar eine ideale Gelegenheit\, den AnandaWave®-Stil in nur einem Wochenende kennenzulernen. Du erhältst einen kompakten Überblick über alle relevanten Elemente und kannst diese direkt in deine Praxis integrieren.\nSuchst du nach einem verbindenden Massagewochenende mit neuen Menschen?\nDann ist dies das perfekte Peergroup-Treffen\, das Raum für Austausch\, Lernen und Spaß bietet! Drei Tage\, an denen du in die Welt des Massierens und Begegnens eintauchst\, wie bei einem Kurzurlaub in angenehmer Atmosphäre\, mit guter Verpflegung und professioneller Begleitung.\n\nFolgende Tantramassage Inhalte werden vermittelt: \n\nKonkrete Merkmale der AnandaWave®-Tantramassage kennenlernen und umsetzen\nBewegungssequenzen wiederholen und auf dich abgestimmt üben\nfließende Übergänge in deiner Tantramassage schaffen\nMassieren mit den Elementen: Erde\, Wasser\, Feuer\, Luft\nAspekte der taoistischen Energielehre einbeziehen\nEntspannung\, Tiefe und Sinnlichkeit in der Massage erzeugen\nWiederholung aller wesentlichen Aspekte in Vorbereitung zu deiner praktischen Prüfung\n\nWorauf wartest du?\nSieh dieses Seminar als eine wertvolle Gelegenheit\, dich in einer unterstützenden Gruppe weiterzuentwickeln. Nutze es als intensives Peergrouptreffen\, das von erfahrenen Profis begleitet wird. Verbinde dich mit Massierenden aus anderen Schulen und erweitere dein Netzwerk und dein Repertoire. Oder bereite dich auf die Prüfung vor und erhalte den letzten Schliff für deine Tantramassage-Kunst. \nAn allen Tagen werden wir massieren. Du brauchst im Grunde nur einen Lunghi und Öl. Wir begleiten dich mit viel Herz und Hand\, geben dir wertvolle Einblicke in die tantrische Berührungskunst und zeigen dir\, wie du eine wunderschöne Tantramassage mit den AnandaWave®-Elementen gestalten kannst. \nVoraussetzung:\nDu hast bereits bei einem beliebigen Anbieter eine tantrische Grundmassage erlernt.\nDie vorherige Teilnahme an einem Intimmassageseminar ist nicht erforderlich. \nHast du noch Fragen? Wir sind gerne für dich da:\nKatharina: katharina@ananda-wave.de\nElisabetta: elisabetta@ananda-wave.de\nFür organisatorische Fragen wende dich bitte an unser Büro: info@ananda-wave.de \nWir freuen uns darauf\, dich in diesem Seminar zu begleiten!\nHerzlichst\,\nKatharina & Elisabetta \nBitte lese auch unsere Teilnahme- und Rücktrittsbedingungen\, sowie unsere Rabatte und Zahlungsmodalitäten. \nIm Preis enthalten: Alle Teilnehmenden bekommen ausführliches schriftliches Material zu den Seminarinhalten ausgehändigt. Nach deiner verbindlichen Anmeldung erhältst von uns einen Link\, um deine Unterkunft und Verpflegung direkt im Seminarhaus zu besonderen AnandaWave-Konditionen zu buchen. \nSeminarleitung:Katharina Hahn und Elisabetta Partenopeo \nalle Termine:\n			        Aug.\n			        21\n			        \n    Die Essenz der AnandaWave®-Massagetechnik\n                \n                21. August - 23. August\n				\n			        Sep.\n			        10\n			        \n    Die Essenz der AnandaWave®-Massagetechnik\n                \n                Freitag\, 10. September 2027 - Sonntag\, 12. September 2027\n				\nzur Anmeldung
URL:https://anandawave.de/termin/die-essenz-der-anandawave-massagetechnik-3/
LOCATION:Leuther Mühle\, Nettetal\, 41334\, Deutschland
CATEGORIES:Die Essenz der AnandaWave®-Massage,Seminare,Tantrisches Berührungstraining
ATTACH;FMTTYPE=image/jpeg:https://anandawave.de/wp-content/uploads/2021/06/tipps-tricks-skills-scaled.jpg
END:VEVENT
BEGIN:VEVENT
DTSTART;TZID=Europe/Berlin:20270929T150000
DTEND;TZID=Europe/Berlin:20271003T160000
DTSTAMP:20260423T073921
CREATED:20260116T082320Z
LAST-MODIFIED:20260120T120835Z
UID:10518-1822230000-1822579200@anandawave.de
SUMMARY:Kompetenz trifft Leidenschaft
DESCRIPTION:nächste Termine:\n			        Mai\n			        20\n			        \n    Kompetenz trifft Leidenschaft\n                \n                20. Mai - 24. Mai\n				\n45€ (zzgl. U+V) \nTerminübersicht und AnmeldungTantramassage-Seminar für FortgeschritteneKennst du das? Du lässt dich von einer Person kompetent und engagiert massieren – und trotzdem fehlt etwas? Was berührt uns wirklich\, und wie begleiten wir ein Gegenüber in die Hingabe und Leidenschaft? Wie entstehen Hingabe und Leidenschaft überhaupt? All das und mehr erfährst du in unserem Tantramassage-Seminar „Kompetenz trifft Leidenschaft“. \nLeidenschaft und Tantramassagekunst \nSchönheit\, Hingabe und Leidenschaft in der Tantramassage liegen weniger in der Massagekunst selbst\, als vielmehr in den beteiligten Personen. Sie müssen immer erschaffen und in die Berührung hinein getragen werden. \nWie schön eine Tantramassage wird\, hängt somit wesentlich davon ab\, wer wir als Gebende und Empfangende selbst sind und wie wir mit dem Leben umgehen. \nTantrisch\, spirituelle Haltung \nUm eine Tantramassage mit wahrer Leidenschaft geben zu können\, bedarf es einer Vision. Es kommt darauf an\, wie wir unser Tun in etwas größeres Ganzes\, in Körper\, Verstand und Geist\, in Selbst\, Kultur und Natur so verankern können\, dass es allen Menschen dient. Der Wert einer Tantramassage definiert sich daher nicht nur durch das Beherrschen eines gut eingeübten Tantramassage-Rituals. Genauso wichtig ist es\, aus welcher spirituellen Haltung die massierende Person diese Tätigkeit in die Welt trägt. \nDen Teilnehmenden in diesem Tantramassage-Seminar werden die grundlegenden Eckpfeiler der integralen Spiritualität von Ken Wilber nahegebracht. Zugleich werden sie ermutigt\, sich eine grundlegende spirituelle Lebenspraxis anzueignen\, die das Bewusstsein schult. Somit kann sich diese wertvolle tantrische Körperarbeit aus der höchsten Absicht heraus entfalten und ihre Wirkung trägt in der Gesellschaft Früchte. \nZudem bezieht eine wirkliche effektive und umfassende Ausübung der Tantramassage stets alle vier Dimension unseres Seins mit ein. Diese sind die emotionale\, physische\, mentale und spirituelle Dimension\, Ebene oder Welle. \nWir beginnen das Tantramassage-Seminar daher mit Stille und energetischen Grundübungen. Über die tiefe Verbindung zu unserem Gefühl schaffen wir einen offenen Kanal für die eigene Intuition. Durch das Loslassen erlernter Konzepte entstehen kreative Momente im absoluten Gewahrsein des Augenblicks. Die Essenz der Leidenschaft wird so geboren. Die Tantramassage kann beginnen. \nIntuition und Leidenschaft in der Tantramassage \nDoch Leidenschaft braucht auch Kraft\, Dynamik und Spannung. Wir tanzen zu den Fünf Rhythmen nach Gabrielle Roth und gelangen damit auf eine körperliche\, instinktive Ebene. Dort haben wir Verbindung zu unserem Energiepotenzial und unserem natürlichen Ausdruck. Diesen übertragen wir unmittelbar und intuitiv auf unsere Tantramassage. \nWir beschäftigen uns intensiv mit unserer Intuition\, der Spiritualität und Leidenschaft im Rahmen der Tantramassage. Dabei spielt auch die Frage eine Rolle\, wie weit man sich öffnen kann\, ohne sich zu verlieren. \nAn wen richtet sich dieses Tantramassage-Seminar? \nDiese Veranstaltung richtet sich an zwei Teilnehmer:innenkreise: \nFrauen\, Männer und diverse Personen\, die bereits die Yoni- und Lingam-Massage in Seminaren (bei AnandaWave® oder auch in anderen Tantramassage-Instituten) kennengelernt und eingeübt haben\, und sich weiterbilden wollen\nAngehende Profis der AnandaWave-Profi-Ausbildung TMV® \nDas Seminar ist im Rahmen der Tantramassage Profi-Ausbildung TMV® eingestuft als Level 1\, Modul 4. Es sind jedoch auch alle Menschen ohne berufliche Ambitionen eingeladen an diesem Seminar teilzunehmen. \nTantramassage-Seminar: Inhalte \n\nKonkrete Merkmale der AnandaWave-Tantramassage benennen und umsetzen\nVerschiedene Bewegungssequenzen erlernen und üben\nStille\, Meditation und Chakrenübungen\nIntuition: Das Hier und Jetzt in der Massage\nEnergetisches Grundwissen zur Tantramassage\nUmgang und Integration von Schattenkräften\nDynamik\, Leidenschaft und Atmung in der Massage\nÜbertragung der neuen Erkenntnisse in die eigene Tantramassage mit Yoni- und Lingam\, sowie gegebenenfalls Anal-Massage\n\nBitte lese auch unsere Teilnahme- und Rücktrittsbedingungen\, sowie unsere Rabatte und Zahlungsmodalitäten. \nIm Preis enthalten: Alle Teilnehmenden bekommen ausführliches schriftliches Material zu den Seminarinhalten ausgehändigt. Nach deiner Anmeldung erhältst du von uns einen Link\, um deine Unterkunft und Verpflegung direkt im Seminarhaus zu besonderen AnandaWave-Konditionen zu buchen. \nHier findest du Informationen zu: \n\nTantramassage-Profi-Ausbildung TMV®\nGanzheitliches Jahrestraining\n\nSeminarleitung:Michaela Riedl \nAlle Termine:\n			        Mai\n			        20\n			        \n    Kompetenz trifft Leidenschaft\n                \n                20. Mai - 24. Mai\n				\n			        Sep.\n			        29\n			        \n    Kompetenz trifft Leidenschaft\n                \n                Mittwoch\, 29. September 2027 - Sonntag\, 3. Oktober 2027\n				\nTerminübersicht und Anmeldung
URL:https://anandawave.de/termin/kompetenz-trifft-leidenschaft-2/
LOCATION:Leuther Mühle\, Nettetal\, 41334\, Deutschland
CATEGORIES:Kompetenz trifft Leidenschaft,Seminare
ATTACH;FMTTYPE=image/jpeg:https://anandawave.de/wp-content/uploads/2021/06/kompetenz-trifft-leidenschaft-scaled.jpg
END:VEVENT
END:VCALENDAR